BEGIN:VCALENDAR
VERSION:2.0
PRODID:-//The Community Caring Collaborative - ECPv6.15.20//NONSGML v1.0//EN
CALSCALE:GREGORIAN
METHOD:PUBLISH
X-ORIGINAL-URL:https://www.cccmaine.org
X-WR-CALDESC:Events for The Community Caring Collaborative
REFRESH-INTERVAL;VALUE=DURATION:PT1H
X-Robots-Tag:noindex
X-PUBLISHED-TTL:PT1H
BEGIN:VTIMEZONE
TZID:America/New_York
BEGIN:DAYLIGHT
TZOFFSETFROM:-0500
TZOFFSETTO:-0400
TZNAME:EDT
DTSTART:20240310T070000
END:DAYLIGHT
BEGIN:STANDARD
TZOFFSETFROM:-0400
TZOFFSETTO:-0500
TZNAME:EST
DTSTART:20241103T060000
END:STANDARD
BEGIN:DAYLIGHT
TZOFFSETFROM:-0500
TZOFFSETTO:-0400
TZNAME:EDT
DTSTART:20250309T070000
END:DAYLIGHT
BEGIN:STANDARD
TZOFFSETFROM:-0400
TZOFFSETTO:-0500
TZNAME:EST
DTSTART:20251102T060000
END:STANDARD
BEGIN:DAYLIGHT
TZOFFSETFROM:-0500
TZOFFSETTO:-0400
TZNAME:EDT
DTSTART:20260308T070000
END:DAYLIGHT
BEGIN:STANDARD
TZOFFSETFROM:-0400
TZOFFSETTO:-0500
TZNAME:EST
DTSTART:20261101T060000
END:STANDARD
END:VTIMEZONE
BEGIN:VEVENT
DTSTART;TZID=America/New_York:20250318T130000
DTEND;TZID=America/New_York:20250318T153000
DTSTAMP:20260421T184340
CREATED:20250226T152122Z
LAST-MODIFIED:20250226T152122Z
UID:9076-1742302800-1742311800@www.cccmaine.org
SUMMARY:Impacts of Poverty & the Power of Two-Gen Approaches
DESCRIPTION:You’re invited to join Community Caring Collaborative Director\, Charley Martin-Berry\, and Pleasant Point Health Center CNA/Home Health Aide for Elders\, Mercedes McCoy\, in an interactive\, virtual learning opportunity on the effects of poverty and strategies that can help individuals and families experience stability and success. \nParticipants will explore concepts of scarcity and bandwidth\, and the role of flexible financial supports\, social connectedness\, and two-generational strategies for family economic mobility. Mercedes\, who is a Family Futures Downeast alumni from cohort 2\, will offer perspectives from her educational and professional pathways that help illustrate the impact of two-gen strategies in the context of lived experiences. \nParticipants will be encouraged to ask questions\, share experiences that have supported their own personal and professional success\, and add insights from their professional practices on what helps individuals and families succeed. \nThis training will be held on Zoom.  Register here. \n 
URL:https://www.cccmaine.org/event/impacts-of-poverty-the-power-of-two-gen-approaches/
LOCATION:Zoom
CATEGORIES:Educational Event,Training
ATTACH;FMTTYPE=image/jpeg:https://www.cccmaine.org/wp-content/uploads/2025/02/Impacts-of-Poverty-Two-Gen-Approaches.jpeg
END:VEVENT
END:VCALENDAR