BEGIN:VCALENDAR
VERSION:2.0
PRODID:-//The Community Caring Collaborative - ECPv6.15.20//NONSGML v1.0//EN
CALSCALE:GREGORIAN
METHOD:PUBLISH
X-ORIGINAL-URL:https://www.cccmaine.org
X-WR-CALDESC:Events for The Community Caring Collaborative
REFRESH-INTERVAL;VALUE=DURATION:PT1H
X-Robots-Tag:noindex
X-PUBLISHED-TTL:PT1H
BEGIN:VTIMEZONE
TZID:America/New_York
BEGIN:DAYLIGHT
TZOFFSETFROM:-0500
TZOFFSETTO:-0400
TZNAME:EDT
DTSTART:20180311T070000
END:DAYLIGHT
BEGIN:STANDARD
TZOFFSETFROM:-0400
TZOFFSETTO:-0500
TZNAME:EST
DTSTART:20181104T060000
END:STANDARD
BEGIN:DAYLIGHT
TZOFFSETFROM:-0500
TZOFFSETTO:-0400
TZNAME:EDT
DTSTART:20190310T070000
END:DAYLIGHT
BEGIN:STANDARD
TZOFFSETFROM:-0400
TZOFFSETTO:-0500
TZNAME:EST
DTSTART:20191103T060000
END:STANDARD
BEGIN:DAYLIGHT
TZOFFSETFROM:-0500
TZOFFSETTO:-0400
TZNAME:EDT
DTSTART:20200308T070000
END:DAYLIGHT
BEGIN:STANDARD
TZOFFSETFROM:-0400
TZOFFSETTO:-0500
TZNAME:EST
DTSTART:20201101T060000
END:STANDARD
BEGIN:DAYLIGHT
TZOFFSETFROM:-0500
TZOFFSETTO:-0400
TZNAME:EDT
DTSTART:20210314T070000
END:DAYLIGHT
BEGIN:STANDARD
TZOFFSETFROM:-0400
TZOFFSETTO:-0500
TZNAME:EST
DTSTART:20211107T060000
END:STANDARD
END:VTIMEZONE
BEGIN:VEVENT
DTSTART;TZID=America/New_York:20200506T113000
DTEND;TZID=America/New_York:20200506T125000
DTSTAMP:20260421T054116
CREATED:20200318T155043Z
LAST-MODIFIED:20200407T181850Z
UID:4588-1588764600-1588769400@www.cccmaine.org
SUMMARY:Healing Garden Cancelled
DESCRIPTION:This presentation by Elin MacKinnon\, LCSW\, has been cancelled due to the COVID-19 situation.
URL:https://www.cccmaine.org/event/the-healing-garden-bbl/
LOCATION:Downeast Recovery Support Center\, 11 Free Street\, Machias\, ME\, 04654\, United States
CATEGORIES:Educational Event
ATTACH;FMTTYPE=image/jpeg:https://www.cccmaine.org/wp-content/uploads/2020/03/Healing-Garden.jpg
END:VEVENT
BEGIN:VEVENT
DTSTART;TZID=America/New_York:20200401T113000
DTEND;TZID=America/New_York:20200401T125000
DTSTAMP:20260421T054116
CREATED:20200206T192909Z
LAST-MODIFIED:20200324T211257Z
UID:4485-1585740600-1585745400@www.cccmaine.org
SUMMARY:Tobacco Prevention BBL
DESCRIPTION:The CCC invites you to a virtual brown bag lunch on April 1st from 11:30 — 12:50 with staff from Healthy Acadia. Using Zoom technology\, Katie Sell and Georgie Kendall will present a non-clinical outreach training on tobacco prevention\, including an overview of electronic nicotine delivery systems (vaping). Participants will become familiar with the Quitlinks.com referral program and discuss success rates that combine counseling and nicotine replacement therapies; review helpful language to use for encouraging clients to seek help quitting tobacco; and get an overview of vaping – the harmful effects; statistics on use among youth; and marketing strategies by large tobacco companies that target youth.  Email Christine to sign up.  Zoom invitation: \n Join Zoom Meeting\nMeeting ID: 242 364 110\nPassword: 019169\nOne tap mobile  +19294362866\,\,242364110# US (New York)\nDial by your location +1 929 436 2866 US (New York)
URL:https://www.cccmaine.org/event/tobacco-prevention-bbl/
LOCATION:Sunrise County Economic Council\, 7 Ames Way\, Machias\, ME\, 04654\, United States
CATEGORIES:Educational Event
ORGANIZER;CN="Community Caring Collaborative":MAILTO:claurel@cccmaine.org
END:VEVENT
BEGIN:VEVENT
DTSTART;TZID=America/New_York:20200304T113000
DTEND;TZID=America/New_York:20200304T124500
DTSTAMP:20260421T054116
CREATED:20200109T220327Z
LAST-MODIFIED:20200109T220515Z
UID:4392-1583321400-1583325900@www.cccmaine.org
SUMMARY:Brown Bag Lunch on WIC
DESCRIPTION:Brown Bag Lunch presentation with Q & A by Tawney Jacobs\, Director of WIC for Washington & Hancock Counties.  Bring your lunch\, we’ll provided beverages.  RSVP to Christine.
URL:https://www.cccmaine.org/event/wic-brown-bag-lunch/
LOCATION:Sunrise County Economic Council\, 7 Ames Way\, Machias\, ME\, 04654\, United States
CATEGORIES:Educational Event
ATTACH;FMTTYPE=image/jpeg:https://www.cccmaine.org/wp-content/uploads/2020/01/WIC-3.jpg
ORGANIZER;CN="Community Caring Collaborative":MAILTO:claurel@cccmaine.org
END:VEVENT
BEGIN:VEVENT
DTSTART;TZID=America/New_York:20191122T123000
DTEND;TZID=America/New_York:20191122T153000
DTSTAMP:20260421T054116
CREATED:20190925T130902Z
LAST-MODIFIED:20191121T141632Z
UID:4161-1574425800-1574436600@www.cccmaine.org
SUMMARY:Building Age-Friendly Communities from the Ground Up
DESCRIPTION:The CCC and Washington County Thriving in Place invite Washington County town managers and select board members to join us for a lunch meeting with Patricia Oh\, AARP Age-Friendly Consultant\, to explore how joining AARP’s network of age-friendly communities can benefit your town.  Hear from representatives of communities in Washington and Hancock Counties that have already joined this network.  Learn the process for receiving an age-friendly community designation.  12:30 to 3:30 at the Kay Parker Building in Machias.  Lunch will be provided.  Registration for this meeting is now closed.  Please contact Christine at claurel@cccmaine.org if you would like to attend. \n 
URL:https://www.cccmaine.org/event/building-age-friendly-communities/
LOCATION:Kay Parker Building\, 26 Hadley Lake Road\, Machias\, ME\, 04654\, United States
CATEGORIES:Educational Event,Meetings
ATTACH;FMTTYPE=image/jpeg:https://www.cccmaine.org/wp-content/uploads/2019/09/Age-Friendly-Community-pic.jpg
ORGANIZER;CN="Community Caring Collaborative":MAILTO:claurel@cccmaine.org
END:VEVENT
BEGIN:VEVENT
DTSTART;TZID=America/New_York:20191106T113000
DTEND;TZID=America/New_York:20191106T125000
DTSTAMP:20260421T054116
CREATED:20191017T150340Z
LAST-MODIFIED:20191017T150340Z
UID:4236-1573039800-1573044600@www.cccmaine.org
SUMMARY:Tools & Topics: skills for helping clients achieve their financial goals
DESCRIPTION:The CCC invites service providers to a brown bag lunch presented by Joe Connors\, attorney and financial coach with Downeast Community Partners\, from 11:30 am to 12:50 pm in the large conference room at SCEC. \n\nLearn Useful tools for building budgets with clients\nDiscuss how to have conversations with clients about personal finances\nExplore even harder conversations about financial privacy and accessing benefits\n\nBring your lunch and we’ll provide beverages and dessert.  RSVP to Christine.
URL:https://www.cccmaine.org/event/tools-topics-skills-for-helping-clients-achieve-their-financial-goals/
LOCATION:Sunrise County Economic Council\, 7 Ames Way\, Machias\, ME\, 04654\, United States
CATEGORIES:Educational Event,Training
ATTACH;FMTTYPE=image/jpeg:https://www.cccmaine.org/wp-content/uploads/2019/01/Financial-Coaching.jpg
ORGANIZER;CN="Community Caring Collaborative":MAILTO:claurel@cccmaine.org
END:VEVENT
BEGIN:VEVENT
DTSTART;TZID=America/New_York:20191106T113000
DTEND;TZID=America/New_York:20191106T125000
DTSTAMP:20260421T054116
CREATED:20191009T140353Z
LAST-MODIFIED:20191009T140901Z
UID:4202-1573039800-1573044600@www.cccmaine.org
SUMMARY:Tools & Topics BBL
DESCRIPTION:Service providers are invited to a brown bag lunch on Tools & Topics: skills for helping clients achieve their financial goals presented by Joe Connors\, Financial Coach with Downeast Community Partners.  Joe will review useful tools for building budgets with clients (if you have a budget template you’re currently using\, bring it with you!); discuss having conversations with clients about personal finances; and even harder conversations about financial privacy and accessing benefits. Bring your lunch\, we’ll provide beverages and dessert.  RSVP to Christine.  Participants are welcome to stay for the Work Group meeting immediately following.
URL:https://www.cccmaine.org/event/tools-topics-bbl/
LOCATION:Sunrise County Economic Council\, 7 Ames Way\, Machias\, ME\, 04654\, United States
CATEGORIES:Educational Event
ATTACH;FMTTYPE=image/jpeg:https://www.cccmaine.org/wp-content/uploads/2019/01/Financial-Coaching.jpg
ORGANIZER;CN="Community Caring Collaborative":MAILTO:claurel@cccmaine.org
END:VEVENT
BEGIN:VEVENT
DTSTART;TZID=America/New_York:20191010T170000
DTEND;TZID=America/New_York:20191010T200000
DTSTAMP:20260421T054116
CREATED:20190730T222621Z
LAST-MODIFIED:20191009T153104Z
UID:4004-1570726800-1570737600@www.cccmaine.org
SUMMARY:Helping Your Business Navigate Substance Use in the Work Place
DESCRIPTION:Sunrise County Economic Council and the Community Caring Collaborative are coordinating a 3-hour  training for employers on this topic on October 10th from 5 – 8 pm at the Downeast Recovery Support Center\, 311 Main Street\, Calais. \nThe training will begin with local businesses sharing how they are engaging recovery communities and learn from lived experiences. \nNext\, participants will learn how to identify\, respond\, and engage with current and potential employees impacted by substance use disorder. \nFinally\, there will be a networking event with area resources that offer information\, services\, and programs that support workforce participation\, including: \n\nrisk and liability\neducation and training\nsubstance use treatment & prevention services\n\nThis event has been cancelled due to low enrollment and we are working to reschedule at a different time. \n  \n 
URL:https://www.cccmaine.org/event/navigate-substance-use-in-the-work-place/
LOCATION:Downeast Recovery Support Center\, Calais\, 311 Main Street\, Calais\, 04619\, United States
CATEGORIES:Educational Event
ORGANIZER;CN="Community Caring Collaborative":MAILTO:claurel@cccmaine.org
END:VEVENT
BEGIN:VEVENT
DTSTART;TZID=America/New_York:20191010T130000
DTEND;TZID=America/New_York:20191010T170000
DTSTAMP:20260421T054116
CREATED:20190828T124556Z
LAST-MODIFIED:20190828T124556Z
UID:4106-1570712400-1570726800@www.cccmaine.org
SUMMARY:Elder Abuse Awareness & Response Workshop
DESCRIPTION:The Elder Abuse Institute of Maine\, together with Next Step and the CCC\, is hosting a free workshop on October 10th from 1-5 pm at the Calais Congregational Church\, 21 Calais Avenue.  This event is for community volunteers\, social service agency staff\, medical providers\, law enforcement\, and faith community members.  Participants will learn to identify potential elder abuse\, what resources are available to help victims and families\, and what they can do to help.  Call 207-712-8551 for more information.  Register here.
URL:https://www.cccmaine.org/event/elder-abuse-awareness-response-workshop/
LOCATION:Calais Congregational Church\, 21 Calais Avenue\, Calais\, ME\, 04619\, United States
CATEGORIES:Educational Event,Training
ATTACH;FMTTYPE=image/jpeg:https://www.cccmaine.org/wp-content/uploads/2018/08/Wise-Elder.jpg
END:VEVENT
BEGIN:VEVENT
DTSTART;TZID=America/New_York:20190926T090000
DTEND;TZID=America/New_York:20190926T120000
DTSTAMP:20260421T054116
CREATED:20190726T152239Z
LAST-MODIFIED:20190805T124625Z
UID:3979-1569488400-1569499200@www.cccmaine.org
SUMMARY:Helping Your Business Navigate Substance Use in the Workplace
DESCRIPTION:Sunrise County Economic Council and the Community Caring Collaborative are coordinating a 3-hour  training for employers on this topic with two different options for dates and locations: \n\nSeptember 26th from 9 am – Noon at the Machias Savings Bank Training Center\, 1 Colonial Way\, Machias.\nOctober 10th from 5 – 8 pm at the Downeast Recovery Support Center\, 311 Main Street\, Calais.\n\nThe training will begin with local businesses sharing how they are engaging recovery communities and learn from lived experiences. \nNext\, participants will learn how to identify\, respond\, and engage with current and potential employees impacted by substance use disorder. \nFinally\, there will be a networking event with area resources that offer information\, services\, and programs that support workforce participation\, including: \n\nrisk and liability\neducation and training\nsubstance use treatment & prevention services\n\nTo register for this free event\, please fill out the form below\, selecting the training option you wish to attend\, and press “submit.” \n\n\n                \n                        Name*\n                            \n                            \n                                                    \n                                                    First\n                                                \n                            \n                            \n                                                    \n                                                    Last\n                                                \n                            \n                        Business or organizationEmail*\n                            \n                        Phone*I will attend on*\n			\n				\n				September 26th at MSB Training Center\, Machias\n			\n			\n				\n				October 10th at DE Recovery Support Center\, Calais\n			CAPTCHA\n          \n            \n            \n            \n            \n            \n            \n            \n            \n            \n            \n            \n            \n            \n        \n                        \n                        \n\n  \n  \n  \n 
URL:https://www.cccmaine.org/event/navigating-substance-use-in-the-workplace/
LOCATION:Machias Savings Bank Training Center\, 1 Colonial Way\, Machias\, ME\, 04654\, United States
CATEGORIES:Educational Event
ORGANIZER;CN="Community Caring Collaborative":MAILTO:claurel@cccmaine.org
END:VEVENT
BEGIN:VEVENT
DTSTART;TZID=America/New_York:20190909T110000
DTEND;TZID=America/New_York:20190909T133000
DTSTAMP:20260421T054116
CREATED:20190703T132304Z
LAST-MODIFIED:20190703T132718Z
UID:3927-1568026800-1568035800@www.cccmaine.org
SUMMARY:Hot Topics in Employment
DESCRIPTION:The law firm of Rudman Winchell will present a lunch & learn on three of the hottest topics facing employers in employment law: Drug Use in the Workplace\, Sexual Harassment\,  and Workplace Accommodation\, while also reviewing changes to Maine employment laws this year. Washington County Community College is hosting this event from 11:00 to 1:30 in the Assembly Room. Download a flyer for more information. Reserve your seat by contacting Dawn Spinney at dspinney@rudmanwinchell.com or 207-992-2302.
URL:https://www.cccmaine.org/event/hot-topics-in-employment/
LOCATION:WCCC Assembly Room\, 1 College Drive\, Calais\, ME\, 04619\, United States
CATEGORIES:Educational Event
ATTACH;FMTTYPE=image/jpeg:https://www.cccmaine.org/wp-content/uploads/2019/07/employment-law.jpg
ORGANIZER;CN="Sunrise County Economic Council":MAILTO:scec@sunrisecounty.org
END:VEVENT
BEGIN:VEVENT
DTSTART;TZID=America/New_York:20190725T090000
DTEND;TZID=America/New_York:20190725T130000
DTSTAMP:20260421T054116
CREATED:20190418T173407Z
LAST-MODIFIED:20190718T132705Z
UID:3771-1564045200-1564059600@www.cccmaine.org
SUMMARY:Aging My Way Community Fair
DESCRIPTION:Washington County Thriving in Place invites all community members interested in learning tips\, tools\, gadgets\, strategies and services available to help retain wellness and supports into our later years to “Aging My Way Community Fair\,” a free summer event. Join us for exhibits\, demonstrations and guidance to start planning your path to thriving in place.  July 25th from 9 am — 1 pm in the Reynolds gymnasium at the University of Maine Machias.  Free admission\, food\, and gift card tree raffle.  If your organization would like a table\, please fill out the registration form below.  Mini demonstrations behind your table are welcome.  Registration for an exhibitor table is now closed.  Please contact Christine with any questions. \n 
URL:https://www.cccmaine.org/event/aging-my-way-community-fair/
LOCATION:UMM Reynolds Center\, 116 O'Brien Avenue\, Machias\, ME\, 04654\, United States
CATEGORIES:Educational Event
ATTACH;FMTTYPE=image/jpeg:https://www.cccmaine.org/wp-content/uploads/2018/06/Smiling-elder-man-at-home-cropped-resize-to-75.jpg
END:VEVENT
END:VCALENDAR