BEGIN:VCALENDAR
VERSION:2.0
PRODID:-//The Community Caring Collaborative - ECPv6.15.20//NONSGML v1.0//EN
CALSCALE:GREGORIAN
METHOD:PUBLISH
X-WR-CALNAME:The Community Caring Collaborative
X-ORIGINAL-URL:https://www.cccmaine.org
X-WR-CALDESC:Events for The Community Caring Collaborative
REFRESH-INTERVAL;VALUE=DURATION:PT1H
X-Robots-Tag:noindex
X-PUBLISHED-TTL:PT1H
BEGIN:VTIMEZONE
TZID:America/New_York
BEGIN:DAYLIGHT
TZOFFSETFROM:-0500
TZOFFSETTO:-0400
TZNAME:EDT
DTSTART:20180311T070000
END:DAYLIGHT
BEGIN:STANDARD
TZOFFSETFROM:-0400
TZOFFSETTO:-0500
TZNAME:EST
DTSTART:20181104T060000
END:STANDARD
BEGIN:DAYLIGHT
TZOFFSETFROM:-0500
TZOFFSETTO:-0400
TZNAME:EDT
DTSTART:20190310T070000
END:DAYLIGHT
BEGIN:STANDARD
TZOFFSETFROM:-0400
TZOFFSETTO:-0500
TZNAME:EST
DTSTART:20191103T060000
END:STANDARD
BEGIN:DAYLIGHT
TZOFFSETFROM:-0500
TZOFFSETTO:-0400
TZNAME:EDT
DTSTART:20200308T070000
END:DAYLIGHT
BEGIN:STANDARD
TZOFFSETFROM:-0400
TZOFFSETTO:-0500
TZNAME:EST
DTSTART:20201101T060000
END:STANDARD
END:VTIMEZONE
BEGIN:VEVENT
DTSTART;TZID=America/New_York:20190725T090000
DTEND;TZID=America/New_York:20190725T130000
DTSTAMP:20260421T070435
CREATED:20190418T173407Z
LAST-MODIFIED:20190718T132705Z
UID:3771-1564045200-1564059600@www.cccmaine.org
SUMMARY:Aging My Way Community Fair
DESCRIPTION:Washington County Thriving in Place invites all community members interested in learning tips\, tools\, gadgets\, strategies and services available to help retain wellness and supports into our later years to “Aging My Way Community Fair\,” a free summer event. Join us for exhibits\, demonstrations and guidance to start planning your path to thriving in place.  July 25th from 9 am — 1 pm in the Reynolds gymnasium at the University of Maine Machias.  Free admission\, food\, and gift card tree raffle.  If your organization would like a table\, please fill out the registration form below.  Mini demonstrations behind your table are welcome.  Registration for an exhibitor table is now closed.  Please contact Christine with any questions. \n 
URL:https://www.cccmaine.org/event/aging-my-way-community-fair/
LOCATION:UMM Reynolds Center\, 116 O'Brien Avenue\, Machias\, ME\, 04654\, United States
CATEGORIES:Educational Event
ATTACH;FMTTYPE=image/jpeg:https://www.cccmaine.org/wp-content/uploads/2018/06/Smiling-elder-man-at-home-cropped-resize-to-75.jpg
END:VEVENT
END:VCALENDAR