BEGIN:VCALENDAR
VERSION:2.0
PRODID:-//The Community Caring Collaborative - ECPv6.15.20//NONSGML v1.0//EN
CALSCALE:GREGORIAN
METHOD:PUBLISH
X-ORIGINAL-URL:https://www.cccmaine.org
X-WR-CALDESC:Events for The Community Caring Collaborative
REFRESH-INTERVAL;VALUE=DURATION:PT1H
X-Robots-Tag:noindex
X-PUBLISHED-TTL:PT1H
BEGIN:VTIMEZONE
TZID:America/New_York
BEGIN:DAYLIGHT
TZOFFSETFROM:-0500
TZOFFSETTO:-0400
TZNAME:EDT
DTSTART:20160313T070000
END:DAYLIGHT
BEGIN:STANDARD
TZOFFSETFROM:-0400
TZOFFSETTO:-0500
TZNAME:EST
DTSTART:20161106T060000
END:STANDARD
BEGIN:DAYLIGHT
TZOFFSETFROM:-0500
TZOFFSETTO:-0400
TZNAME:EDT
DTSTART:20170312T070000
END:DAYLIGHT
BEGIN:STANDARD
TZOFFSETFROM:-0400
TZOFFSETTO:-0500
TZNAME:EST
DTSTART:20171105T060000
END:STANDARD
BEGIN:DAYLIGHT
TZOFFSETFROM:-0500
TZOFFSETTO:-0400
TZNAME:EDT
DTSTART:20180311T070000
END:DAYLIGHT
BEGIN:STANDARD
TZOFFSETFROM:-0400
TZOFFSETTO:-0500
TZNAME:EST
DTSTART:20181104T060000
END:STANDARD
BEGIN:DAYLIGHT
TZOFFSETFROM:-0500
TZOFFSETTO:-0400
TZNAME:EDT
DTSTART:20190310T070000
END:DAYLIGHT
BEGIN:STANDARD
TZOFFSETFROM:-0400
TZOFFSETTO:-0500
TZNAME:EST
DTSTART:20191103T060000
END:STANDARD
BEGIN:DAYLIGHT
TZOFFSETFROM:-0500
TZOFFSETTO:-0400
TZNAME:EDT
DTSTART:20200308T070000
END:DAYLIGHT
BEGIN:STANDARD
TZOFFSETFROM:-0400
TZOFFSETTO:-0500
TZNAME:EST
DTSTART:20201101T060000
END:STANDARD
BEGIN:DAYLIGHT
TZOFFSETFROM:-0500
TZOFFSETTO:-0400
TZNAME:EDT
DTSTART:20210314T070000
END:DAYLIGHT
BEGIN:STANDARD
TZOFFSETFROM:-0400
TZOFFSETTO:-0500
TZNAME:EST
DTSTART:20211107T060000
END:STANDARD
BEGIN:DAYLIGHT
TZOFFSETFROM:-0500
TZOFFSETTO:-0400
TZNAME:EDT
DTSTART:20220313T070000
END:DAYLIGHT
BEGIN:STANDARD
TZOFFSETFROM:-0400
TZOFFSETTO:-0500
TZNAME:EST
DTSTART:20221106T060000
END:STANDARD
BEGIN:DAYLIGHT
TZOFFSETFROM:-0500
TZOFFSETTO:-0400
TZNAME:EDT
DTSTART:20230312T070000
END:DAYLIGHT
BEGIN:STANDARD
TZOFFSETFROM:-0400
TZOFFSETTO:-0500
TZNAME:EST
DTSTART:20231105T060000
END:STANDARD
BEGIN:DAYLIGHT
TZOFFSETFROM:-0500
TZOFFSETTO:-0400
TZNAME:EDT
DTSTART:20240310T070000
END:DAYLIGHT
BEGIN:STANDARD
TZOFFSETFROM:-0400
TZOFFSETTO:-0500
TZNAME:EST
DTSTART:20241103T060000
END:STANDARD
END:VTIMEZONE
BEGIN:VEVENT
DTSTART;TZID=America/New_York:20230522T100000
DTEND;TZID=America/New_York:20230522T150000
DTSTAMP:20260420T090725
CREATED:20230419T151404Z
LAST-MODIFIED:20230516T205839Z
UID:7527-1684749600-1684767600@www.cccmaine.org
SUMMARY:CCC Vision Day 2023
DESCRIPTION:The Community Caring Collaborative invites you to 2023 CCC Vision Day: Taking Flex Funds to the Next Level\, May 22nd from 10 am — 3 pm at Cobscook Institute in Trescott.  Join the CCC for a day of envisioning: \n\nHow to fully meet the needs of community members facing financial barriers\nStreamlining access and processes across programs\nAccelerating impact for families\n\nMorning Refreshments & lunch provided.  Download a flyer to share.  Registration is now closed.  You can add this event to your calendar using the “Add to calendar” option below the “submit” button. \n  \n 
URL:https://www.cccmaine.org/event/ccc-vision-day-2023/
LOCATION:Cobscook Institute\, 10 Commissary Point Rd\, Trescott Township\, ME\, 04652\, United States
CATEGORIES:Meet & Greet,Social Event
ORGANIZER;CN="Community Caring Collaborative":MAILTO:claurel@cccmaine.org
END:VEVENT
BEGIN:VEVENT
DTSTART;TZID=America/New_York:20220928T120000
DTEND;TZID=America/New_York:20220928T160000
DTSTAMP:20260420T090725
CREATED:20220823T174740Z
LAST-MODIFIED:20220922T181254Z
UID:7001-1664366400-1664380800@www.cccmaine.org
SUMMARY:Substance Use & its Impacts 2022 - Registration
DESCRIPTION:Please fill out the information requested to register for Substance Use and its Impacts: supporting recovery across communities\, presented by Abby Frutchey\, MSW\, LADC\, CCS\, 1-4 pm at Cobscook Institute in Trescott\, on September 28\, 2022.  We also invite you to join us for a light lunch and networking session at 12 noon before the training begins.  There is no fee for lunch or the training.  The link to register will stay active until September 26th. \n\n\n                \n                        Name(Required)\n                            \n                            \n                                                    \n                                                    First\n                                                \n                            \n                            \n                                                    \n                                                    Last\n                                                \n                            \n                        Email(Required)\n                            \n                        Phone(Required)Organization(Required)Your title or roleHave you attended a CCC Substance Use training previously?(Required)\n			\n					\n					yes\n			\n			\n					\n					no\n			How would you describe your level of knowledge on this training topic?(Required)\n			\n					\n					I have had little or no training on this topic.\n			\n			\n					\n					I have had some training and feel knowledgeable on this topic.\n			\n			\n					\n					I have had extensive training and feel very knowledge on this topic.\n			CAPTCHA
URL:https://www.cccmaine.org/event/substance-use-its-impacts-2022-registration/
LOCATION:Cobscook Institute\, 10 Commissary Point Rd\, Trescott Township\, ME\, 04652\, United States
CATEGORIES:Educational Event,Meet & Greet,Training
ATTACH;FMTTYPE=image/jpeg:https://www.cccmaine.org/wp-content/uploads/2022/08/Substance-Use-Recovery-Training.jpg
ORGANIZER;CN="Community Caring Collaborative":MAILTO:claurel@cccmaine.org
END:VEVENT
BEGIN:VEVENT
DTSTART;TZID=America/New_York:20200428T120000
DTEND;TZID=America/New_York:20200428T130000
DTSTAMP:20260420T090725
CREATED:20200128T224842Z
LAST-MODIFIED:20200323T172533Z
UID:4438-1588075200-1588078800@www.cccmaine.org
SUMMARY:Dental Student Conversation - Postponed
DESCRIPTION:This event has been postponed\, owing to the NYU School of Dentistry and WCCP postponing the Dental Clinic due to the COVID-19 situation.  Once the clinic has been rescheduled\, we will reschedule the  conversation we are hosting between service providers and the NYU Dental School students about health and potential barriers to health in Washington county.
URL:https://www.cccmaine.org/event/dental-student-conversation/
LOCATION:Sunrise County Economic Council\, 7 Ames Way\, Machias\, ME\, 04654\, United States
CATEGORIES:Meet & Greet
ATTACH;FMTTYPE=image/jpeg:https://www.cccmaine.org/wp-content/uploads/2019/03/Dental-Clinic.jpg
ORGANIZER;CN="Community Caring Collaborative":MAILTO:claurel@cccmaine.org
END:VEVENT
BEGIN:VEVENT
DTSTART;TZID=America/New_York:20171018T130000
DTEND;TZID=America/New_York:20171018T143000
DTSTAMP:20260420T090725
CREATED:20170914T202755Z
LAST-MODIFIED:20170914T203115Z
UID:2210-1508331600-1508337000@www.cccmaine.org
SUMMARY:Hope Fund Conversation
DESCRIPTION:The CCC invites partner providers who submit Hope Fund applications on behalf of clients to an informal celebration marking the launch of the Fund’s 6th year of operation.  Join us for some dessert and conversation in the large conference room at SCEC from 1-2:30 pm.  We will discuss changes to the application form; answer questions on eligibility and interpreting the guidelines; share suggestions for how the Fund is linked to pre-established goals within your program; and ask for feedback on evaluating the impact of the Fund.  Please RSVP to Christine before October 13th.  Download a flyer to circulate to colleagues at your organization.
URL:https://www.cccmaine.org/event/hope-fund-conversation/
LOCATION:Sunrise County Economic Council\, 7 Ames Way\, Machias\, ME\, 04654\, United States
CATEGORIES:Meet & Greet,Meetings
ATTACH;FMTTYPE=image/jpeg:https://www.cccmaine.org/wp-content/uploads/2016/08/iStock_000004535819Large.jpg
ORGANIZER;CN="Community Caring Collaborative":MAILTO:claurel@cccmaine.org
END:VEVENT
END:VCALENDAR