BEGIN:VCALENDAR
VERSION:2.0
PRODID:-//The Community Caring Collaborative - ECPv6.15.20//NONSGML v1.0//EN
CALSCALE:GREGORIAN
METHOD:PUBLISH
X-WR-CALNAME:The Community Caring Collaborative
X-ORIGINAL-URL:https://www.cccmaine.org
X-WR-CALDESC:Events for The Community Caring Collaborative
REFRESH-INTERVAL;VALUE=DURATION:PT1H
X-Robots-Tag:noindex
X-PUBLISHED-TTL:PT1H
BEGIN:VTIMEZONE
TZID:America/New_York
BEGIN:DAYLIGHT
TZOFFSETFROM:-0500
TZOFFSETTO:-0400
TZNAME:EDT
DTSTART:20180311T070000
END:DAYLIGHT
BEGIN:STANDARD
TZOFFSETFROM:-0400
TZOFFSETTO:-0500
TZNAME:EST
DTSTART:20181104T060000
END:STANDARD
BEGIN:DAYLIGHT
TZOFFSETFROM:-0500
TZOFFSETTO:-0400
TZNAME:EDT
DTSTART:20190310T070000
END:DAYLIGHT
BEGIN:STANDARD
TZOFFSETFROM:-0400
TZOFFSETTO:-0500
TZNAME:EST
DTSTART:20191103T060000
END:STANDARD
BEGIN:DAYLIGHT
TZOFFSETFROM:-0500
TZOFFSETTO:-0400
TZNAME:EDT
DTSTART:20200308T070000
END:DAYLIGHT
BEGIN:STANDARD
TZOFFSETFROM:-0400
TZOFFSETTO:-0500
TZNAME:EST
DTSTART:20201101T060000
END:STANDARD
END:VTIMEZONE
BEGIN:VEVENT
DTSTART;TZID=America/New_York:20190410T130000
DTEND;TZID=America/New_York:20190410T140000
DTSTAMP:20260424T210817
CREATED:20190312T211433Z
LAST-MODIFIED:20200129T165024Z
UID:3659-1554901200-1554904800@www.cccmaine.org
SUMMARY:Meeting with NYU Dental Students
DESCRIPTION:Join CCC staff for an hour’s conversation with the NYU School of Dentistry team in the large conference room at SCEC on April 10th.  These are the students who volunteer their time for the free dental clinic coordinated by Sunrise Opportunities each year in April.  For the past several years\, CCC staff and Work Group/Poverty Busters have met with the students and their global outreach administrator for an informal conversation during the clinic about the impact of their work in downeast Maine.  Once again\, we ask for your participation to help orient the dental team to the unique challenges and strengths of maintaining oral health in rural Maine\, while receiving feedback from the volunteers’ perspective that might surprise you.  Please RSVP to Christine if you are able to attend. \nThanks!
URL:https://www.cccmaine.org/event/meeting-with-nyu-dental-students/
LOCATION:Sunrise County Economic Council\, 7 Ames Way\, Machias\, ME\, 04654\, United States
CATEGORIES:Meetings
ATTACH;FMTTYPE=image/png:https://www.cccmaine.org/wp-content/uploads/2019/03/Dental-Clinic-2.png
END:VEVENT
BEGIN:VEVENT
DTSTART;TZID=America/New_York:20190424T090000
DTEND;TZID=America/New_York:20190424T120000
DTSTAMP:20260424T210817
CREATED:20190307T134016Z
LAST-MODIFIED:20190422T161308Z
UID:3635-1556096400-1556107200@www.cccmaine.org
SUMMARY:Impacts of Trauma on Students & Families: Trauma 101
DESCRIPTION:This training\, presented by Julie Redding\, LCPC\, is designed for staff at all levels in Family Futures Downeast partner organizations featuring scenarios and content with a specific focus on Washington County early and higher education.  Participants will learn the definition of trauma and how it impacts a person\, including: \n\nToxic stress and the role of cortisol\nAdverse Childhood Experiences\nHow the brain is impacted by ACEs and toxic stress\nFactors that mitigate effects of ACES\, trauma\, and stress\nWhat it means to become Trauma Informed\n\nThis training is an introduction (101 version) to trauma and its impacts. Participants who are formal partners providing supports to the FFD program and have attended a trauma training led by Elin Mackinnon\, LCSW or Julie Redding\, LCPC\,  have already met the FFD training requirement for Trauma 101. Staff from other CCC partner organizations who find this relevant to their work are welcome to attend. The training will be held from 9 am to 12 noon at the Cobscook Community Learning Center. Contact hour certificates will be provided.  Registration is closed for this training.
URL:https://www.cccmaine.org/event/impacts-of-trauma-on-students-families-trauma-101/
LOCATION:Cobscook Institute\, 10 Commissary Point Rd\, Trescott Township\, ME\, 04652\, United States
CATEGORIES:Meetings
ATTACH;FMTTYPE=image/jpeg:https://www.cccmaine.org/wp-content/uploads/2016/07/iStock_000012303701Large-e1551966225262.jpg
ORGANIZER;CN="Community Caring Collaborative":MAILTO:claurel@cccmaine.org
END:VEVENT
END:VCALENDAR