BEGIN:VCALENDAR
VERSION:2.0
PRODID:-//The Community Caring Collaborative - ECPv6.15.20//NONSGML v1.0//EN
CALSCALE:GREGORIAN
METHOD:PUBLISH
X-WR-CALNAME:The Community Caring Collaborative
X-ORIGINAL-URL:https://www.cccmaine.org
X-WR-CALDESC:Events for The Community Caring Collaborative
REFRESH-INTERVAL;VALUE=DURATION:PT1H
X-Robots-Tag:noindex
X-PUBLISHED-TTL:PT1H
BEGIN:VTIMEZONE
TZID:America/New_York
BEGIN:DAYLIGHT
TZOFFSETFROM:-0500
TZOFFSETTO:-0400
TZNAME:EDT
DTSTART:20160313T070000
END:DAYLIGHT
BEGIN:STANDARD
TZOFFSETFROM:-0400
TZOFFSETTO:-0500
TZNAME:EST
DTSTART:20161106T060000
END:STANDARD
BEGIN:DAYLIGHT
TZOFFSETFROM:-0500
TZOFFSETTO:-0400
TZNAME:EDT
DTSTART:20170312T070000
END:DAYLIGHT
BEGIN:STANDARD
TZOFFSETFROM:-0400
TZOFFSETTO:-0500
TZNAME:EST
DTSTART:20171105T060000
END:STANDARD
BEGIN:DAYLIGHT
TZOFFSETFROM:-0500
TZOFFSETTO:-0400
TZNAME:EDT
DTSTART:20180311T070000
END:DAYLIGHT
BEGIN:STANDARD
TZOFFSETFROM:-0400
TZOFFSETTO:-0500
TZNAME:EST
DTSTART:20181104T060000
END:STANDARD
END:VTIMEZONE
BEGIN:VEVENT
DTSTART;TZID=America/New_York:20171218T140000
DTEND;TZID=America/New_York:20171218T160000
DTSTAMP:20260425T180207
CREATED:20171127T214726Z
LAST-MODIFIED:20171128T155159Z
UID:2415-1513605600-1513612800@www.cccmaine.org
SUMMARY:Community Forum
DESCRIPTION:Join Maine Equal Justice Partners and your colleagues in Washington County on December 18th from 2-4 pm at the Kay Parker Building in Machias to continue the conversation about child poverty from last spring’s community forum: Invest in Tomorrow: Solving Childhood Poverty is Everyone’s Problem. This will be an opportunity to discuss what solutions could be put in place\, what we’ve learned since the spring forum\, and consider what our collective next steps should be.  Contact Joby Thoyalil at MEJP with any questions.  Sponsors include the John T Gorman Foundation\, Maine Equal Justice Partners\, United Way\, Maine State Chamber of Commerce\, Maine Community Foundation\, and Maine Community Action Association.
URL:https://www.cccmaine.org/event/invest-in-tomorrow/
LOCATION:Kay Parker Building\, Hadley Lake Road\, Machias\, ME\, 04654\, United States
CATEGORIES:Meetings
ORGANIZER;CN="Maine Equal Justice Partners":MAILTO:rmerrill@mejp.org
END:VEVENT
END:VCALENDAR