BEGIN:VCALENDAR
VERSION:2.0
PRODID:-//The Community Caring Collaborative - ECPv6.15.20//NONSGML v1.0//EN
CALSCALE:GREGORIAN
METHOD:PUBLISH
X-WR-CALNAME:The Community Caring Collaborative
X-ORIGINAL-URL:https://www.cccmaine.org
X-WR-CALDESC:Events for The Community Caring Collaborative
REFRESH-INTERVAL;VALUE=DURATION:PT1H
X-Robots-Tag:noindex
X-PUBLISHED-TTL:PT1H
BEGIN:VTIMEZONE
TZID:America/New_York
BEGIN:DAYLIGHT
TZOFFSETFROM:-0500
TZOFFSETTO:-0400
TZNAME:EDT
DTSTART:20250309T070000
END:DAYLIGHT
BEGIN:STANDARD
TZOFFSETFROM:-0400
TZOFFSETTO:-0500
TZNAME:EST
DTSTART:20251102T060000
END:STANDARD
BEGIN:DAYLIGHT
TZOFFSETFROM:-0500
TZOFFSETTO:-0400
TZNAME:EDT
DTSTART:20260308T070000
END:DAYLIGHT
BEGIN:STANDARD
TZOFFSETFROM:-0400
TZOFFSETTO:-0500
TZNAME:EST
DTSTART:20261101T060000
END:STANDARD
BEGIN:DAYLIGHT
TZOFFSETFROM:-0500
TZOFFSETTO:-0400
TZNAME:EDT
DTSTART:20270314T070000
END:DAYLIGHT
BEGIN:STANDARD
TZOFFSETFROM:-0400
TZOFFSETTO:-0500
TZNAME:EST
DTSTART:20271107T060000
END:STANDARD
END:VTIMEZONE
BEGIN:VEVENT
DTSTART;TZID=America/New_York:20260204T130000
DTEND;TZID=America/New_York:20260204T143000
DTSTAMP:20260421T062036
CREATED:20170110T222914Z
LAST-MODIFIED:20260128T174020Z
UID:7211-1770210000-1770215400@www.cccmaine.org
SUMMARY:Feb Work Group
DESCRIPTION:The CCC Work Group is meeting in the large conference room at Sunrise County Economic Council’s Machias office at 7 Ames Way from 1-2:30 pm.  Download an agenda for this meeting.  Work Group members are direct service workers\, volunteers and agency admins who come together to share resources\, support each other and brainstorm solutions to community needs.  Download a schedule of meeting dates\, locations and formats for the rest of 2026.
URL:https://www.cccmaine.org/event/wgpb-meeting-2017-03-01-2022-07-06-2023-09-06/
LOCATION:Sunrise County Economic Council\, 7 Ames Way\, Machias\, ME\, 04654\, United States
CATEGORIES:Meetings
ORGANIZER;CN="Community Caring Collaborative":MAILTO:claurel@cccmaine.org
END:VEVENT
END:VCALENDAR