BEGIN:VCALENDAR
VERSION:2.0
PRODID:-//The Community Caring Collaborative - ECPv6.15.20//NONSGML v1.0//EN
CALSCALE:GREGORIAN
METHOD:PUBLISH
X-ORIGINAL-URL:https://www.cccmaine.org
X-WR-CALDESC:Events for The Community Caring Collaborative
REFRESH-INTERVAL;VALUE=DURATION:PT1H
X-Robots-Tag:noindex
X-PUBLISHED-TTL:PT1H
BEGIN:VTIMEZONE
TZID:America/New_York
BEGIN:DAYLIGHT
TZOFFSETFROM:-0500
TZOFFSETTO:-0400
TZNAME:EDT
DTSTART:20210314T070000
END:DAYLIGHT
BEGIN:STANDARD
TZOFFSETFROM:-0400
TZOFFSETTO:-0500
TZNAME:EST
DTSTART:20211107T060000
END:STANDARD
BEGIN:DAYLIGHT
TZOFFSETFROM:-0500
TZOFFSETTO:-0400
TZNAME:EDT
DTSTART:20220313T070000
END:DAYLIGHT
BEGIN:STANDARD
TZOFFSETFROM:-0400
TZOFFSETTO:-0500
TZNAME:EST
DTSTART:20221106T060000
END:STANDARD
BEGIN:DAYLIGHT
TZOFFSETFROM:-0500
TZOFFSETTO:-0400
TZNAME:EDT
DTSTART:20230312T070000
END:DAYLIGHT
BEGIN:STANDARD
TZOFFSETFROM:-0400
TZOFFSETTO:-0500
TZNAME:EST
DTSTART:20231105T060000
END:STANDARD
BEGIN:DAYLIGHT
TZOFFSETFROM:-0500
TZOFFSETTO:-0400
TZNAME:EDT
DTSTART:20240310T070000
END:DAYLIGHT
BEGIN:STANDARD
TZOFFSETFROM:-0400
TZOFFSETTO:-0500
TZNAME:EST
DTSTART:20241103T060000
END:STANDARD
BEGIN:DAYLIGHT
TZOFFSETFROM:-0500
TZOFFSETTO:-0400
TZNAME:EDT
DTSTART:20250309T070000
END:DAYLIGHT
BEGIN:STANDARD
TZOFFSETFROM:-0400
TZOFFSETTO:-0500
TZNAME:EST
DTSTART:20251102T060000
END:STANDARD
BEGIN:DAYLIGHT
TZOFFSETFROM:-0500
TZOFFSETTO:-0400
TZNAME:EDT
DTSTART:20260308T070000
END:DAYLIGHT
BEGIN:STANDARD
TZOFFSETFROM:-0400
TZOFFSETTO:-0500
TZNAME:EST
DTSTART:20261101T060000
END:STANDARD
END:VTIMEZONE
BEGIN:VEVENT
DTSTART;TZID=America/New_York:20220304T083000
DTEND;TZID=America/New_York:20220304T103000
DTSTAMP:20260425T091012
CREATED:20170109T171338Z
LAST-MODIFIED:20201130T185004Z
UID:4565-1646382600-1646389800@www.cccmaine.org
SUMMARY:C4 Meeting
DESCRIPTION:Meeting of the CCC Council on Zoom.  Contact Charley Martin-Berry to join this meeting.
URL:https://www.cccmaine.org/event/c4-meeting-2022-03-04/
LOCATION:ME
CATEGORIES:Meetings
ORGANIZER;CN="Community Caring Collaborative":MAILTO:claurel@cccmaine.org
END:VEVENT
BEGIN:VEVENT
DTSTART;TZID=America/New_York:20220401T083000
DTEND;TZID=America/New_York:20220401T103000
DTSTAMP:20260425T091012
CREATED:20170109T171338Z
LAST-MODIFIED:20201130T185004Z
UID:4628-1648801800-1648809000@www.cccmaine.org
SUMMARY:C4 Meeting
DESCRIPTION:Meeting of the CCC Council on Zoom.  Contact Charley Martin-Berry to join this meeting.
URL:https://www.cccmaine.org/event/c4-meeting-2022-04-01/
LOCATION:ME
CATEGORIES:Meetings
ORGANIZER;CN="Community Caring Collaborative":MAILTO:claurel@cccmaine.org
END:VEVENT
BEGIN:VEVENT
DTSTART;TZID=America/New_York:20220425T130000
DTEND;TZID=America/New_York:20220425T143000
DTSTAMP:20260425T091012
CREATED:20220404T153803Z
LAST-MODIFIED:20220404T160046Z
UID:6566-1650891600-1650897000@www.cccmaine.org
SUMMARY:WC Municipal Data Utilization Meeting
DESCRIPTION:On April 25\, 2022: 1:00 – 2:30 pm you are invited to a Zoom meeting to hear from other towns in Washington County about using data to plan and implement innovative strategies for improvements to health\, social services\, age-friendly support systems\, and healthy environments. \nPanelists\n\nBaileyville Community Project – developing community-level data to prioritize initiatives\nEastport MDASH Project – leveraging municipal data across sectors for healthy aging\nSCEC Community Resilience Partnerships – municipal and tribal opportunities to mitigate the effects of climate change\n\nListening Session\n\n What projects is your municipality considering this next year? What data would be important to have and use?\n If data were available\, how would you use it: planning\, needs assessment\, evaluation\, other?\nWhat do you need for support in getting and using data for your projects?\n\nPlease register for this event.  If you have any questions\, please contact Al May of the Maine CDC at alfred.may@maine.gov. We look forward to your participation.
URL:https://www.cccmaine.org/event/wc-municipal-data-utilization-meeting/
LOCATION:Zoom
CATEGORIES:Meetings
ATTACH;FMTTYPE=image/jpeg:https://www.cccmaine.org/wp-content/uploads/2022/04/Data-Management-2.jpg
END:VEVENT
BEGIN:VEVENT
DTSTART;TZID=America/New_York:20220506T083000
DTEND;TZID=America/New_York:20220506T103000
DTSTAMP:20260425T091012
CREATED:20170109T171338Z
LAST-MODIFIED:20201130T185004Z
UID:4763-1651825800-1651833000@www.cccmaine.org
SUMMARY:C4 Meeting
DESCRIPTION:Meeting of the CCC Council on Zoom.  Contact Charley Martin-Berry to join this meeting.
URL:https://www.cccmaine.org/event/c4-meeting-2022-05-06/
LOCATION:ME
CATEGORIES:Meetings
ORGANIZER;CN="Community Caring Collaborative":MAILTO:claurel@cccmaine.org
END:VEVENT
BEGIN:VEVENT
DTSTART;TZID=America/New_York:20220603T083000
DTEND;TZID=America/New_York:20220603T103000
DTSTAMP:20260425T091012
CREATED:20170109T171338Z
LAST-MODIFIED:20201130T185004Z
UID:4831-1654245000-1654252200@www.cccmaine.org
SUMMARY:C4 Meeting
DESCRIPTION:Meeting of the CCC Council on Zoom.  Contact Charley Martin-Berry to join this meeting.
URL:https://www.cccmaine.org/event/c4-meeting-2022-06-03/
LOCATION:ME
CATEGORIES:Meetings
ORGANIZER;CN="Community Caring Collaborative":MAILTO:claurel@cccmaine.org
END:VEVENT
BEGIN:VEVENT
DTSTART;TZID=America/New_York:20220701T083000
DTEND;TZID=America/New_York:20220701T103000
DTSTAMP:20260425T091012
CREATED:20170109T171338Z
LAST-MODIFIED:20201130T185004Z
UID:4964-1656664200-1656671400@www.cccmaine.org
SUMMARY:C4 Meeting
DESCRIPTION:Meeting of the CCC Council on Zoom.  Contact Charley Martin-Berry to join this meeting.
URL:https://www.cccmaine.org/event/c4-meeting-2022-07-01/
LOCATION:ME
CATEGORIES:Meetings
ORGANIZER;CN="Community Caring Collaborative":MAILTO:claurel@cccmaine.org
END:VEVENT
BEGIN:VEVENT
DTSTART;TZID=America/New_York:20220805T083000
DTEND;TZID=America/New_York:20220805T103000
DTSTAMP:20260425T091012
CREATED:20170109T171338Z
LAST-MODIFIED:20201130T185004Z
UID:5036-1659688200-1659695400@www.cccmaine.org
SUMMARY:C4 Meeting
DESCRIPTION:Meeting of the CCC Council on Zoom.  Contact Charley Martin-Berry to join this meeting.
URL:https://www.cccmaine.org/event/c4-meeting-2022-08-05/
LOCATION:ME
CATEGORIES:Meetings
ORGANIZER;CN="Community Caring Collaborative":MAILTO:claurel@cccmaine.org
END:VEVENT
BEGIN:VEVENT
DTSTART;TZID=America/New_York:20220902T083000
DTEND;TZID=America/New_York:20220902T103000
DTSTAMP:20260425T091012
CREATED:20170109T171338Z
LAST-MODIFIED:20201130T185004Z
UID:5087-1662107400-1662114600@www.cccmaine.org
SUMMARY:C4 Meeting
DESCRIPTION:Meeting of the CCC Council on Zoom.  Contact Charley Martin-Berry to join this meeting.
URL:https://www.cccmaine.org/event/c4-meeting-2022-09-02/
LOCATION:ME
CATEGORIES:Meetings
ORGANIZER;CN="Community Caring Collaborative":MAILTO:claurel@cccmaine.org
END:VEVENT
BEGIN:VEVENT
DTSTART;TZID=America/New_York:20221007T083000
DTEND;TZID=America/New_York:20221007T103000
DTSTAMP:20260425T091012
CREATED:20170109T171338Z
LAST-MODIFIED:20201130T185005Z
UID:5140-1665131400-1665138600@www.cccmaine.org
SUMMARY:C4 Meeting
DESCRIPTION:Meeting of the CCC Council on Zoom.  Contact Charley Martin-Berry to join this meeting.
URL:https://www.cccmaine.org/event/c4-meeting-2022-10-07/
LOCATION:ME
CATEGORIES:Meetings
ORGANIZER;CN="Community Caring Collaborative":MAILTO:claurel@cccmaine.org
END:VEVENT
BEGIN:VEVENT
DTSTART;TZID=America/New_York:20221104T083000
DTEND;TZID=America/New_York:20221104T103000
DTSTAMP:20260425T091012
CREATED:20170109T171338Z
LAST-MODIFIED:20201130T185005Z
UID:5291-1667550600-1667557800@www.cccmaine.org
SUMMARY:C4 Meeting
DESCRIPTION:Meeting of the CCC Council on Zoom.  Contact Charley Martin-Berry to join this meeting.
URL:https://www.cccmaine.org/event/c4-meeting-2022-11-04/
LOCATION:ME
CATEGORIES:Meetings
ORGANIZER;CN="Community Caring Collaborative":MAILTO:claurel@cccmaine.org
END:VEVENT
BEGIN:VEVENT
DTSTART;TZID=America/New_York:20221202T083000
DTEND;TZID=America/New_York:20221202T103000
DTSTAMP:20260425T091012
CREATED:20170109T171338Z
LAST-MODIFIED:20170109T171338Z
UID:5484-1669969800-1669977000@www.cccmaine.org
SUMMARY:C4 Meeting
DESCRIPTION:Meeting of the CCC Council on Zoom.  Contact Charley Martin-Berry to join this meeting.
URL:https://www.cccmaine.org/event/c4-meeting-2022-12-02/
LOCATION:ME
CATEGORIES:Meetings
ORGANIZER;CN="Community Caring Collaborative":MAILTO:claurel@cccmaine.org
END:VEVENT
BEGIN:VEVENT
DTSTART;TZID=America/New_York:20230106T083000
DTEND;TZID=America/New_York:20230106T103000
DTSTAMP:20260425T091012
CREATED:20170109T171338Z
LAST-MODIFIED:20170109T171338Z
UID:5544-1672993800-1673001000@www.cccmaine.org
SUMMARY:C4 Meeting
DESCRIPTION:Meeting of the CCC Council on Zoom.  Contact Charley Martin-Berry to join this meeting.
URL:https://www.cccmaine.org/event/c4-meeting-2023-01-06/
LOCATION:ME
CATEGORIES:Meetings
ORGANIZER;CN="Community Caring Collaborative":MAILTO:claurel@cccmaine.org
END:VEVENT
BEGIN:VEVENT
DTSTART;TZID=America/New_York:20230203T083000
DTEND;TZID=America/New_York:20230203T103000
DTSTAMP:20260425T091012
CREATED:20170109T171338Z
LAST-MODIFIED:20170109T171338Z
UID:5639-1675413000-1675420200@www.cccmaine.org
SUMMARY:C4 Meeting
DESCRIPTION:Meeting of the CCC Council on Zoom.  Contact Charley Martin-Berry to join this meeting.
URL:https://www.cccmaine.org/event/c4-meeting-2023-02-03/
LOCATION:ME
CATEGORIES:Meetings
ORGANIZER;CN="Community Caring Collaborative":MAILTO:claurel@cccmaine.org
END:VEVENT
BEGIN:VEVENT
DTSTART;TZID=America/New_York:20230303T083000
DTEND;TZID=America/New_York:20230303T103000
DTSTAMP:20260425T091012
CREATED:20170109T171338Z
LAST-MODIFIED:20170109T171338Z
UID:5693-1677832200-1677839400@www.cccmaine.org
SUMMARY:C4 Meeting
DESCRIPTION:Meeting of the CCC Council on Zoom.  Contact Charley Martin-Berry to join this meeting.
URL:https://www.cccmaine.org/event/c4-meeting-2023-03-03/
LOCATION:ME
CATEGORIES:Meetings
ORGANIZER;CN="Community Caring Collaborative":MAILTO:claurel@cccmaine.org
END:VEVENT
BEGIN:VEVENT
DTSTART;TZID=America/New_York:20230407T083000
DTEND;TZID=America/New_York:20230407T103000
DTSTAMP:20260425T091012
CREATED:20170109T171338Z
LAST-MODIFIED:20170109T171338Z
UID:5771-1680856200-1680863400@www.cccmaine.org
SUMMARY:C4 Meeting
DESCRIPTION:Meeting of the CCC Council on Zoom.  Contact Charley Martin-Berry to join this meeting.
URL:https://www.cccmaine.org/event/c4-meeting-2023-04-07/
LOCATION:ME
CATEGORIES:Meetings
ORGANIZER;CN="Community Caring Collaborative":MAILTO:claurel@cccmaine.org
END:VEVENT
BEGIN:VEVENT
DTSTART;TZID=America/New_York:20230505T083000
DTEND;TZID=America/New_York:20230505T103000
DTSTAMP:20260425T091012
CREATED:20170109T171338Z
LAST-MODIFIED:20170109T171338Z
UID:5833-1683275400-1683282600@www.cccmaine.org
SUMMARY:C4 Meeting
DESCRIPTION:Meeting of the CCC Council on Zoom.  Contact Charley Martin-Berry to join this meeting.
URL:https://www.cccmaine.org/event/c4-meeting-2023-05-05/
LOCATION:ME
CATEGORIES:Meetings
ORGANIZER;CN="Community Caring Collaborative":MAILTO:claurel@cccmaine.org
END:VEVENT
BEGIN:VEVENT
DTSTART;TZID=America/New_York:20230602T083000
DTEND;TZID=America/New_York:20230602T103000
DTSTAMP:20260425T091012
CREATED:20170109T171338Z
LAST-MODIFIED:20170109T171338Z
UID:5871-1685694600-1685701800@www.cccmaine.org
SUMMARY:C4 Meeting
DESCRIPTION:Meeting of the CCC Council on Zoom.  Contact Charley Martin-Berry to join this meeting.
URL:https://www.cccmaine.org/event/c4-meeting-2023-06-02/
LOCATION:ME
CATEGORIES:Meetings
ORGANIZER;CN="Community Caring Collaborative":MAILTO:claurel@cccmaine.org
END:VEVENT
BEGIN:VEVENT
DTSTART;TZID=America/New_York:20230707T083000
DTEND;TZID=America/New_York:20230707T103000
DTSTAMP:20260425T091012
CREATED:20170109T171338Z
LAST-MODIFIED:20230620T125627Z
UID:5946-1688718600-1688725800@www.cccmaine.org
SUMMARY:No C4 Meeting
DESCRIPTION:Meeting of the CCC Council on Zoom\, usually on the first Friday of the month\, but this month there will be no meeting due to its proximity to Independence Day and vacations.
URL:https://www.cccmaine.org/event/c4-meeting-2023-07-07/
LOCATION:ME
CATEGORIES:Meetings
ORGANIZER;CN="Community Caring Collaborative":MAILTO:claurel@cccmaine.org
END:VEVENT
BEGIN:VEVENT
DTSTART;TZID=America/New_York:20230804T090000
DTEND;TZID=America/New_York:20230804T123000
DTSTAMP:20260425T091012
CREATED:20170109T171338Z
LAST-MODIFIED:20230718T184112Z
UID:5993-1691139600-1691152200@www.cccmaine.org
SUMMARY:C4 Meeting
DESCRIPTION:In-person-only meeting of the CCC Council.  Location: UMM Reynolds Center Conference Room.  Use the Add to Calendar button below to calendar this event.
URL:https://www.cccmaine.org/event/c4-meeting-2023-08-04/
LOCATION:UMM Reynolds Center\, 116 O'Brien Avenue\, Machias\, ME\, 04654\, United States
CATEGORIES:Meetings
ORGANIZER;CN="Community Caring Collaborative":MAILTO:claurel@cccmaine.org
END:VEVENT
BEGIN:VEVENT
DTSTART;TZID=America/New_York:20230901T083000
DTEND;TZID=America/New_York:20230901T103000
DTSTAMP:20260425T091012
CREATED:20170109T171338Z
LAST-MODIFIED:20230620T181432Z
UID:6047-1693557000-1693564200@www.cccmaine.org
SUMMARY:C4 Meeting
DESCRIPTION:Hybrid meeting of the CCC Council.  Contact Charley Martin-Berry to join this meeting.
URL:https://www.cccmaine.org/event/c4-meeting-2023-09-01/
LOCATION:ME
CATEGORIES:Meetings
ORGANIZER;CN="Community Caring Collaborative":MAILTO:claurel@cccmaine.org
END:VEVENT
BEGIN:VEVENT
DTSTART;TZID=America/New_York:20231006T083000
DTEND;TZID=America/New_York:20231006T103000
DTSTAMP:20260425T091012
CREATED:20170109T171338Z
LAST-MODIFIED:20230620T181433Z
UID:6151-1696581000-1696588200@www.cccmaine.org
SUMMARY:C4 Meeting
DESCRIPTION:Hybrid meeting of the CCC Council.  Contact Charley Martin-Berry to join this meeting.
URL:https://www.cccmaine.org/event/c4-meeting-2023-09-01-2023-10-06/
LOCATION:ME
CATEGORIES:Meetings
ORGANIZER;CN="Community Caring Collaborative":MAILTO:claurel@cccmaine.org
END:VEVENT
BEGIN:VEVENT
DTSTART;TZID=America/New_York:20231103T083000
DTEND;TZID=America/New_York:20231103T103000
DTSTAMP:20260425T091012
CREATED:20170109T171338Z
LAST-MODIFIED:20230620T181433Z
UID:6253-1699000200-1699007400@www.cccmaine.org
SUMMARY:C4 Meeting
DESCRIPTION:Hybrid meeting of the CCC Council.  Contact Charley Martin-Berry to join this meeting.
URL:https://www.cccmaine.org/event/c4-meeting-2023-09-01-2023-11-03/
LOCATION:ME
CATEGORIES:Meetings
ORGANIZER;CN="Community Caring Collaborative":MAILTO:claurel@cccmaine.org
END:VEVENT
BEGIN:VEVENT
DTSTART;TZID=America/New_York:20231201T083000
DTEND;TZID=America/New_York:20231201T103000
DTSTAMP:20260425T091012
CREATED:20170109T171338Z
LAST-MODIFIED:20230620T181659Z
UID:6290-1701419400-1701426600@www.cccmaine.org
SUMMARY:C4 Meeting
DESCRIPTION:In-person-only meeting of the CCC Council.  Contact Charley Martin-Berry to join this meeting.  Location tbd.
URL:https://www.cccmaine.org/event/c4-meeting-2023-09-01-2023-12-01/
LOCATION:ME
CATEGORIES:Meetings
ORGANIZER;CN="Community Caring Collaborative":MAILTO:claurel@cccmaine.org
END:VEVENT
BEGIN:VEVENT
DTSTART;TZID=America/New_York:20240105T083000
DTEND;TZID=America/New_York:20240105T103000
DTSTAMP:20260425T091012
CREATED:20170109T171338Z
LAST-MODIFIED:20230620T181433Z
UID:6353-1704443400-1704450600@www.cccmaine.org
SUMMARY:C4 Meeting
DESCRIPTION:Hybrid meeting of the CCC Council.  Contact Charley Martin-Berry to join this meeting.
URL:https://www.cccmaine.org/event/c4-meeting-2023-09-01-2024-01-05/
LOCATION:ME
CATEGORIES:Meetings
ORGANIZER;CN="Community Caring Collaborative":MAILTO:claurel@cccmaine.org
END:VEVENT
BEGIN:VEVENT
DTSTART;TZID=America/New_York:20240202T083000
DTEND;TZID=America/New_York:20240202T103000
DTSTAMP:20260425T091012
CREATED:20170109T171338Z
LAST-MODIFIED:20230620T181433Z
UID:6421-1706862600-1706869800@www.cccmaine.org
SUMMARY:C4 Meeting
DESCRIPTION:Hybrid meeting of the CCC Council.  Contact Charley Martin-Berry to join this meeting.
URL:https://www.cccmaine.org/event/c4-meeting-2023-09-01-2024-02-02/
LOCATION:ME
CATEGORIES:Meetings
ORGANIZER;CN="Community Caring Collaborative":MAILTO:claurel@cccmaine.org
END:VEVENT
BEGIN:VEVENT
DTSTART;TZID=America/New_York:20240301T083000
DTEND;TZID=America/New_York:20240301T103000
DTSTAMP:20260425T091012
CREATED:20170109T171338Z
LAST-MODIFIED:20230620T181433Z
UID:6484-1709281800-1709289000@www.cccmaine.org
SUMMARY:C4 Meeting
DESCRIPTION:Hybrid meeting of the CCC Council.  Contact Charley Martin-Berry to join this meeting.
URL:https://www.cccmaine.org/event/c4-meeting-2023-09-01-2024-03-01/
LOCATION:ME
CATEGORIES:Meetings
ORGANIZER;CN="Community Caring Collaborative":MAILTO:claurel@cccmaine.org
END:VEVENT
BEGIN:VEVENT
DTSTART;TZID=America/New_York:20240405T083000
DTEND;TZID=America/New_York:20240405T103000
DTSTAMP:20260425T091012
CREATED:20170109T171338Z
LAST-MODIFIED:20230620T181847Z
UID:6587-1712305800-1712313000@www.cccmaine.org
SUMMARY:C4 Meeting
DESCRIPTION:In-person-only meeting of the CCC Council.  Contact Charley Martin-Berry to join this meeting.  Location tbd.
URL:https://www.cccmaine.org/event/c4-meeting-2023-09-01-2024-04-05/
LOCATION:ME
CATEGORIES:Meetings
ORGANIZER;CN="Community Caring Collaborative":MAILTO:claurel@cccmaine.org
END:VEVENT
BEGIN:VEVENT
DTSTART;TZID=America/New_York:20240503T083000
DTEND;TZID=America/New_York:20240503T103000
DTSTAMP:20260425T091012
CREATED:20170109T171338Z
LAST-MODIFIED:20230620T181433Z
UID:6698-1714725000-1714732200@www.cccmaine.org
SUMMARY:C4 Meeting
DESCRIPTION:Hybrid meeting of the CCC Council.  Contact Charley Martin-Berry to join this meeting.
URL:https://www.cccmaine.org/event/c4-meeting-2023-09-01-2024-05-03/
LOCATION:ME
CATEGORIES:Meetings
ORGANIZER;CN="Community Caring Collaborative":MAILTO:claurel@cccmaine.org
END:VEVENT
BEGIN:VEVENT
DTSTART;TZID=America/New_York:20240607T083000
DTEND;TZID=America/New_York:20240607T103000
DTSTAMP:20260425T091012
CREATED:20170109T171338Z
LAST-MODIFIED:20230620T181434Z
UID:6883-1717749000-1717756200@www.cccmaine.org
SUMMARY:C4 Meeting
DESCRIPTION:Hybrid meeting of the CCC Council.  Contact Charley Martin-Berry to join this meeting.
URL:https://www.cccmaine.org/event/c4-meeting-2023-09-01-2024-06-07/
LOCATION:ME
CATEGORIES:Meetings
ORGANIZER;CN="Community Caring Collaborative":MAILTO:claurel@cccmaine.org
END:VEVENT
BEGIN:VEVENT
DTSTART;TZID=America/New_York:20250410T100000
DTEND;TZID=America/New_York:20250410T150000
DTSTAMP:20260425T091012
CREATED:20250311T213731Z
LAST-MODIFIED:20250407T212805Z
UID:9132-1744279200-1744297200@www.cccmaine.org
SUMMARY:Washington County Children's Services Summit
DESCRIPTION:Please join us for the Washington County Children’s Services Summit hosted by the CCC at Cobscook Institute on April 10th. \nIndividuals or very small teams from organizations serving children & youth and advocates across the entire age continuum (prenatal to young adult) are invited to join us in a day of exploring the landscape of Washington County: learning about other services and providers; understanding gaps\, trends & data across the continuum; learning about professional development opportunities (or sharing needs); strengthening referral pathways & partnerships; and more. \nWe will start the day at 9:45 am with morning refreshments\, break for lunch at 12:30\, and end the day by 3 pm.  As details are confirmed\, we will add an outline to this event description. \nRegistration for this event is now closed. \n  \n 
URL:https://www.cccmaine.org/event/washington-county-childrens-services-summit/
LOCATION:Cobscook Institute\, 10 Commissary Point Rd\, Trescott Township\, ME\, 04652\, United States
CATEGORIES:Meetings
ATTACH;FMTTYPE=image/jpeg:https://www.cccmaine.org/wp-content/uploads/2025/03/Childrens-Services-Summit-Pic.jpg
ORGANIZER;CN="Community Caring Collaborative":MAILTO:claurel@cccmaine.org
END:VEVENT
END:VCALENDAR