BEGIN:VCALENDAR
VERSION:2.0
PRODID:-//The Community Caring Collaborative - ECPv6.15.20//NONSGML v1.0//EN
CALSCALE:GREGORIAN
METHOD:PUBLISH
X-ORIGINAL-URL:https://www.cccmaine.org
X-WR-CALDESC:Events for The Community Caring Collaborative
REFRESH-INTERVAL;VALUE=DURATION:PT1H
X-Robots-Tag:noindex
X-PUBLISHED-TTL:PT1H
BEGIN:VTIMEZONE
TZID:America/New_York
BEGIN:DAYLIGHT
TZOFFSETFROM:-0500
TZOFFSETTO:-0400
TZNAME:EDT
DTSTART:20230312T070000
END:DAYLIGHT
BEGIN:STANDARD
TZOFFSETFROM:-0400
TZOFFSETTO:-0500
TZNAME:EST
DTSTART:20231105T060000
END:STANDARD
BEGIN:DAYLIGHT
TZOFFSETFROM:-0500
TZOFFSETTO:-0400
TZNAME:EDT
DTSTART:20240310T070000
END:DAYLIGHT
BEGIN:STANDARD
TZOFFSETFROM:-0400
TZOFFSETTO:-0500
TZNAME:EST
DTSTART:20241103T060000
END:STANDARD
BEGIN:DAYLIGHT
TZOFFSETFROM:-0500
TZOFFSETTO:-0400
TZNAME:EDT
DTSTART:20250309T070000
END:DAYLIGHT
BEGIN:STANDARD
TZOFFSETFROM:-0400
TZOFFSETTO:-0500
TZNAME:EST
DTSTART:20251102T060000
END:STANDARD
END:VTIMEZONE
BEGIN:VEVENT
DTSTART;TZID=America/New_York:20241031T160000
DTEND;TZID=America/New_York:20241031T180000
DTSTAMP:20260422T043406
CREATED:20241022T215041Z
LAST-MODIFIED:20241023T140703Z
UID:8818-1730390400-1730397600@www.cccmaine.org
SUMMARY:Family Harvest Meal 2024
DESCRIPTION:Welcome to the CCC’s 6th annual Family Harvest Meal\, a free public supper with resource tables and raffle prizes following Trick or Treat Down Main Street in Machias at the Lee Pellon Center from 4 — 6 pm.  All are welcome to eat in or take food to go.  This year’s menu catered by Angie’s Comfort Kitchen is roast turkey\, mashed potatoes\, stuffing\, gravy\, and harvest vegetables with mac ‘n cheese as an alternate entree.  Desserts include apple and blueberry crisp\, and cookies and brownies donated by Machias Memorial High School\, Washington Academy and the West Lubec Methodist Church.  Download a flyer to share. \nAdding to the spooky fun this year is a haunted house just outside the Lee Pellon Center coordinated by the Machias Arts Council. \nLike to get involved?  We’re always looking for people to help us set up\, serve\, bus tables\, and more.  Contact Charley Martin-Berry (cmartinberry@cccmaine.org) to volunteer.  Set-up starts at 12:30\, resource tables can be set up between 2 – 3 pm\, and servers are asked to arrive by 3:30 pm. \nIf you’d like to make a donation to help us fund this community feast\, Thank you!  Here’s a link to our donation site. Contact Christy at claurel@cccmaine.org with any other questions.  We love hosting this community meal and hope to see you there!
URL:https://www.cccmaine.org/event/family-harvest-meal-2024/
LOCATION:Lee Pellon Center\, 90 Main Street\, Machias\, ME\, 04654\, United States
CATEGORIES:Social Event
ATTACH;FMTTYPE=image/jpeg:https://www.cccmaine.org/wp-content/uploads/2022/09/Fam-Harvest-Meal-Group-pic-cropped.jpg
ORGANIZER;CN="Community Caring Collaborative":MAILTO:claurel@cccmaine.org
END:VEVENT
END:VCALENDAR