BEGIN:VCALENDAR
VERSION:2.0
PRODID:-//The Community Caring Collaborative - ECPv6.15.20//NONSGML v1.0//EN
CALSCALE:GREGORIAN
METHOD:PUBLISH
X-ORIGINAL-URL:https://www.cccmaine.org
X-WR-CALDESC:Events for The Community Caring Collaborative
REFRESH-INTERVAL;VALUE=DURATION:PT1H
X-Robots-Tag:noindex
X-PUBLISHED-TTL:PT1H
BEGIN:VTIMEZONE
TZID:America/New_York
BEGIN:DAYLIGHT
TZOFFSETFROM:-0500
TZOFFSETTO:-0400
TZNAME:EDT
DTSTART:20180311T070000
END:DAYLIGHT
BEGIN:STANDARD
TZOFFSETFROM:-0400
TZOFFSETTO:-0500
TZNAME:EST
DTSTART:20181104T060000
END:STANDARD
BEGIN:DAYLIGHT
TZOFFSETFROM:-0500
TZOFFSETTO:-0400
TZNAME:EDT
DTSTART:20190310T070000
END:DAYLIGHT
BEGIN:STANDARD
TZOFFSETFROM:-0400
TZOFFSETTO:-0500
TZNAME:EST
DTSTART:20191103T060000
END:STANDARD
BEGIN:DAYLIGHT
TZOFFSETFROM:-0500
TZOFFSETTO:-0400
TZNAME:EDT
DTSTART:20200308T070000
END:DAYLIGHT
BEGIN:STANDARD
TZOFFSETFROM:-0400
TZOFFSETTO:-0500
TZNAME:EST
DTSTART:20201101T060000
END:STANDARD
END:VTIMEZONE
BEGIN:VEVENT
DTSTART;TZID=America/New_York:20190519T140000
DTEND;TZID=America/New_York:20190519T160000
DTSTAMP:20260426T001328
CREATED:20190416T224205Z
LAST-MODIFIED:20190416T224205Z
UID:3759-1558274400-1558281600@www.cccmaine.org
SUMMARY:True Senior Prom
DESCRIPTION:Washington County activities directors invite staff in assisted living and nursing homes to bring their residents to the “True Senior Prom” – a special afternoon event on May 19th from 2-4 pm in the Machias Memorial High School gymnasium.  Join us for music\, dancing\, finger food & punch and all the fun of a prom\, including a drawing for Prom King & Queen!  Formal attire welcome.  RSVP to Christine at claurel@cccmaine.org.  This event is supported by Washington County Thriving in Place\, an initiative funded by the Maine Health Access Foundation.
URL:https://www.cccmaine.org/event/true-senior-prom/
LOCATION:Machias Memorial High School Gym\, 1 Bulldog Lane\, Machias\, ME\, 04654\, United States
CATEGORIES:Social Event
ATTACH;FMTTYPE=image/jpeg:https://www.cccmaine.org/wp-content/uploads/2019/04/Cartoon-Prom-Couple.jpg
ORGANIZER;CN="Community Caring Collaborative":MAILTO:claurel@cccmaine.org
END:VEVENT
END:VCALENDAR