BEGIN:VCALENDAR
VERSION:2.0
PRODID:-//The Community Caring Collaborative - ECPv6.15.20//NONSGML v1.0//EN
CALSCALE:GREGORIAN
METHOD:PUBLISH
X-WR-CALNAME:The Community Caring Collaborative
X-ORIGINAL-URL:https://www.cccmaine.org
X-WR-CALDESC:Events for The Community Caring Collaborative
REFRESH-INTERVAL;VALUE=DURATION:PT1H
X-Robots-Tag:noindex
X-PUBLISHED-TTL:PT1H
BEGIN:VTIMEZONE
TZID:America/New_York
BEGIN:DAYLIGHT
TZOFFSETFROM:-0500
TZOFFSETTO:-0400
TZNAME:EDT
DTSTART:20240310T070000
END:DAYLIGHT
BEGIN:STANDARD
TZOFFSETFROM:-0400
TZOFFSETTO:-0500
TZNAME:EST
DTSTART:20241103T060000
END:STANDARD
BEGIN:DAYLIGHT
TZOFFSETFROM:-0500
TZOFFSETTO:-0400
TZNAME:EDT
DTSTART:20250309T070000
END:DAYLIGHT
BEGIN:STANDARD
TZOFFSETFROM:-0400
TZOFFSETTO:-0500
TZNAME:EST
DTSTART:20251102T060000
END:STANDARD
BEGIN:DAYLIGHT
TZOFFSETFROM:-0500
TZOFFSETTO:-0400
TZNAME:EDT
DTSTART:20260308T070000
END:DAYLIGHT
BEGIN:STANDARD
TZOFFSETFROM:-0400
TZOFFSETTO:-0500
TZNAME:EST
DTSTART:20261101T060000
END:STANDARD
END:VTIMEZONE
BEGIN:VEVENT
DTSTART;TZID=America/New_York:20251031T160000
DTEND;TZID=America/New_York:20251031T180000
DTSTAMP:20260421T124246
CREATED:20250929T165441Z
LAST-MODIFIED:20251028T134336Z
UID:9554-1761926400-1761933600@www.cccmaine.org
SUMMARY:Family Harvest Meal 2025
DESCRIPTION:The CCC’s Annual Family Harvest Meal is still on for Friday\, October 31st this year — rain or shine.   Angie’s Comfort Kitchen will cater a delicious roast turkey dinner beginning at 4 until food runs out.  This year we welcome community organizations involved in food security who offer their own community meals to participate in our harvest dinner.  Cobscook Institute and Lubec Community Outreach Center are just a couple of organizations who will be contributing to the meal\, along with our loyal volunteer bakers\, like the Lubec Women’s Club and Machias Memorial High School.  We also welcome family-serving agencies to drop off flyers\, rack cards and other materials they’d like families to see\, and we always welcome more volunteers to help set up\, serve\, clean up spills\, direct traffic\, and help us tend to everyone’s needs. Contact Julie at jredding@cccmaine.org if you’d like to volunteer or share program materials. You can help us promote this event by  downloading a flyer to share. \nIf you’d like to make a financial donation\, here’s a link to our online donation site.  Please join us for this family-friendly event\, and don’t forget your Halloween costume!
URL:https://www.cccmaine.org/event/family-harvest-meal/
LOCATION:Lee Pellon Center\, 90 Main Street\, Machias\, ME\, 04654\, United States
CATEGORIES:Social Event
ATTACH;FMTTYPE=image/jpeg:https://www.cccmaine.org/wp-content/uploads/2025/09/Wide-shot-of-diners-FHM-2024.jpg
END:VEVENT
END:VCALENDAR