BEGIN:VCALENDAR
VERSION:2.0
PRODID:-//The Community Caring Collaborative - ECPv6.15.20//NONSGML v1.0//EN
CALSCALE:GREGORIAN
METHOD:PUBLISH
X-WR-CALNAME:The Community Caring Collaborative
X-ORIGINAL-URL:https://www.cccmaine.org
X-WR-CALDESC:Events for The Community Caring Collaborative
REFRESH-INTERVAL;VALUE=DURATION:PT1H
X-Robots-Tag:noindex
X-PUBLISHED-TTL:PT1H
BEGIN:VTIMEZONE
TZID:America/New_York
BEGIN:DAYLIGHT
TZOFFSETFROM:-0500
TZOFFSETTO:-0400
TZNAME:EDT
DTSTART:20180311T070000
END:DAYLIGHT
BEGIN:STANDARD
TZOFFSETFROM:-0400
TZOFFSETTO:-0500
TZNAME:EST
DTSTART:20181104T060000
END:STANDARD
BEGIN:DAYLIGHT
TZOFFSETFROM:-0500
TZOFFSETTO:-0400
TZNAME:EDT
DTSTART:20190310T070000
END:DAYLIGHT
BEGIN:STANDARD
TZOFFSETFROM:-0400
TZOFFSETTO:-0500
TZNAME:EST
DTSTART:20191103T060000
END:STANDARD
BEGIN:DAYLIGHT
TZOFFSETFROM:-0500
TZOFFSETTO:-0400
TZNAME:EDT
DTSTART:20200308T070000
END:DAYLIGHT
BEGIN:STANDARD
TZOFFSETFROM:-0400
TZOFFSETTO:-0500
TZNAME:EST
DTSTART:20201101T060000
END:STANDARD
END:VTIMEZONE
BEGIN:VEVENT
DTSTART;TZID=America/New_York:20190501T111500
DTEND;TZID=America/New_York:20190501T130000
DTSTAMP:20260425T190833
CREATED:20190322T212425Z
LAST-MODIFIED:20190322T224713Z
UID:3707-1556709300-1556715600@www.cccmaine.org
SUMMARY:Mandated Reporter Brown Bag Lunch
DESCRIPTION:CCC is hosting a free mandated reporter training presented by Barbara Koch\, Community Educator with the Washington County CAN Council.  Participants will be registered with the State of Maine and receive a certificate of completion in the mail. This training will be in the format of a brown bag lunch in the large conference room at Sunrise County Economic Council\, 7 Ames Way\, Machias\, from 11:15 am to 1:00 pm on May 1st.  Bring your lunch – CCC will provide beverages and dessert.  Sign up for this training by emailing Christine.
URL:https://www.cccmaine.org/event/mandated-reporter-brown-bag-lunch/
LOCATION:Sunrise County Economic Council\, 7 Ames Way\, Machias\, ME\, 04654\, United States
CATEGORIES:Training
ATTACH;FMTTYPE=image/jpeg:https://www.cccmaine.org/wp-content/uploads/2019/03/mandaded-reporter-checklist.jpg
ORGANIZER;CN="Community Caring Collaborative":MAILTO:claurel@cccmaine.org
END:VEVENT
BEGIN:VEVENT
DTSTART;TZID=America/New_York:20190501T153000
DTEND;TZID=America/New_York:20190501T173000
DTSTAMP:20260425T190833
CREATED:20190227T132405Z
LAST-MODIFIED:20190422T214411Z
UID:3572-1556724600-1556731800@www.cccmaine.org
SUMMARY:Healing Garden Rescheduled!
DESCRIPTION:The Healing Garden workshop cancelled due to snow earlier this month has been rescheduled to May 1st\, 3:30 to 5:30 pm at a new location: The Downeast Recovery Support Center at 11 Free Street\, Machias.  The concept for this event is a 2-hour workshop on Horticultural Therapy (HT) presented by Elin MacKinnon\, LCSW\, for direct care staff\, program administrators\, educators\, parents and gardeners.  After a brief history and introduction to the profession of horticultural therapy – how it works\, and where it’s practiced – the focus of this 2-hour training will be on how participants can explore\, encourage and support healing garden activities of all sizes in all kinds of settings and with all kinds of people. Learn how to meet social\, emotional and physical goals with HT activities\, and how to bring inexpensive HT activities into your program\, home or other setting.  We’ll end the workshop with a hands on activity.  Registration has reached the maximum number of participants and is now closed. \nElin MacKinnon\, LCSW has incorporated healing garden activities in her work with children and families since 1992 when she developed a community garden project for children in treatment foster care. For over 15 years she has taught a course to graduate social work students at the University of Maine about the benefits of expressive and experiential therapies with a focus on horticulture. \n  \n 
URL:https://www.cccmaine.org/event/the-healing-garden/
LOCATION:Downeast Recovery Support Center\, 11 Free Street\, Machias\, ME\, 04654\, United States
CATEGORIES:Training
ATTACH;FMTTYPE=image/jpeg:https://www.cccmaine.org/wp-content/uploads/2019/02/Healing-Gardens-2019.jpg
ORGANIZER;CN="Community Caring Collaborative":MAILTO:claurel@cccmaine.org
END:VEVENT
END:VCALENDAR