BEGIN:VCALENDAR
VERSION:2.0
PRODID:-//The Community Caring Collaborative - ECPv6.15.20//NONSGML v1.0//EN
CALSCALE:GREGORIAN
METHOD:PUBLISH
X-ORIGINAL-URL:https://www.cccmaine.org
X-WR-CALDESC:Events for The Community Caring Collaborative
REFRESH-INTERVAL;VALUE=DURATION:PT1H
X-Robots-Tag:noindex
X-PUBLISHED-TTL:PT1H
BEGIN:VTIMEZONE
TZID:America/New_York
BEGIN:DAYLIGHT
TZOFFSETFROM:-0500
TZOFFSETTO:-0400
TZNAME:EDT
DTSTART:20210314T070000
END:DAYLIGHT
BEGIN:STANDARD
TZOFFSETFROM:-0400
TZOFFSETTO:-0500
TZNAME:EST
DTSTART:20211107T060000
END:STANDARD
BEGIN:DAYLIGHT
TZOFFSETFROM:-0500
TZOFFSETTO:-0400
TZNAME:EDT
DTSTART:20220313T070000
END:DAYLIGHT
BEGIN:STANDARD
TZOFFSETFROM:-0400
TZOFFSETTO:-0500
TZNAME:EST
DTSTART:20221106T060000
END:STANDARD
BEGIN:DAYLIGHT
TZOFFSETFROM:-0500
TZOFFSETTO:-0400
TZNAME:EDT
DTSTART:20230312T070000
END:DAYLIGHT
BEGIN:STANDARD
TZOFFSETFROM:-0400
TZOFFSETTO:-0500
TZNAME:EST
DTSTART:20231105T060000
END:STANDARD
END:VTIMEZONE
BEGIN:VEVENT
DTSTART;TZID=America/New_York:20220425T100000
DTEND;TZID=America/New_York:20220425T110000
DTSTAMP:20260423T202704
CREATED:20220321T155250Z
LAST-MODIFIED:20220321T155250Z
UID:6534-1650880800-1650884400@www.cccmaine.org
SUMMARY:Logical consequences as positive parenting
DESCRIPTION:Join the CCC for Logical Consequences as Positive Parenting\, presented by Elin MacKinnon\, LCSW.  In this brief training we will review the differences between natural consequences\, logical consequences\, and punishment when used as behavior management strategies with children. We’ll take a quick look at the evidence for using the logical consequences approach. We’ll spend the remainder of the time talking about real examples and ideas on how to apply this strategy to those situations. This training could be a helpful introduction to using this technique as a parent\, and service providers may find it helpful to better understand the use of logical consequences when offering behavior management suggestions for parents they work with.  Please register using this link.
URL:https://www.cccmaine.org/event/logical-consequences-as-positive-parenting/
LOCATION:Zoom
CATEGORIES:Educational Event,Training
ATTACH;FMTTYPE=image/jpeg:https://www.cccmaine.org/wp-content/uploads/2022/03/Natural-Consequences.jpg
ORGANIZER;CN="Community Caring Collaborative":MAILTO:claurel@cccmaine.org
END:VEVENT
END:VCALENDAR