BEGIN:VCALENDAR
VERSION:2.0
PRODID:-//The Community Caring Collaborative - ECPv6.15.20//NONSGML v1.0//EN
CALSCALE:GREGORIAN
METHOD:PUBLISH
X-WR-CALNAME:The Community Caring Collaborative
X-ORIGINAL-URL:https://www.cccmaine.org
X-WR-CALDESC:Events for The Community Caring Collaborative
REFRESH-INTERVAL;VALUE=DURATION:PT1H
X-Robots-Tag:noindex
X-PUBLISHED-TTL:PT1H
BEGIN:VTIMEZONE
TZID:America/New_York
BEGIN:DAYLIGHT
TZOFFSETFROM:-0500
TZOFFSETTO:-0400
TZNAME:EDT
DTSTART:20220313T070000
END:DAYLIGHT
BEGIN:STANDARD
TZOFFSETFROM:-0400
TZOFFSETTO:-0500
TZNAME:EST
DTSTART:20221106T060000
END:STANDARD
BEGIN:DAYLIGHT
TZOFFSETFROM:-0500
TZOFFSETTO:-0400
TZNAME:EDT
DTSTART:20230312T070000
END:DAYLIGHT
BEGIN:STANDARD
TZOFFSETFROM:-0400
TZOFFSETTO:-0500
TZNAME:EST
DTSTART:20231105T060000
END:STANDARD
BEGIN:DAYLIGHT
TZOFFSETFROM:-0500
TZOFFSETTO:-0400
TZNAME:EDT
DTSTART:20240310T070000
END:DAYLIGHT
BEGIN:STANDARD
TZOFFSETFROM:-0400
TZOFFSETTO:-0500
TZNAME:EST
DTSTART:20241103T060000
END:STANDARD
END:VTIMEZONE
BEGIN:VEVENT
DTSTART;TZID=America/New_York:20231013T090000
DTEND;TZID=America/New_York:20231013T120000
DTSTAMP:20260422T173647
CREATED:20230824T135345Z
LAST-MODIFIED:20230920T171427Z
UID:7877-1697187600-1697198400@www.cccmaine.org
SUMMARY:Best Practice Tools for Interprofessional Collaboration
DESCRIPTION:Join the CCC for Best Practice Tools for Interprofessional Collaboration\, a new free\, virtual training.  We’ve probably all had some kind of memorable team meeting experience. For some\, it was worthwhile and for others it wasn’t. For many of us\, it was somewhere in between. In this training we’ll take a look at what it takes to make wraparound supports between helping professionals productive and meaningful. We’ll look at the evidence base\, core competencies\, real teamwork scenarios and we’ll use a simple pencil and paper tool to enhance best practice.  9 am — 12 Noon. Register here to join this Zoom training. \n 
URL:https://www.cccmaine.org/event/team-meeting-training/
LOCATION:Zoom
CATEGORIES:Training
ATTACH;FMTTYPE=image/jpeg:https://www.cccmaine.org/wp-content/uploads/2023/09/Team-Meeting-puzzle-pieces.jpg
ORGANIZER;CN="Community Caring Collaborative":MAILTO:claurel@cccmaine.org
END:VEVENT
BEGIN:VEVENT
DTSTART;TZID=America/New_York:20231020T100000
DTEND;TZID=America/New_York:20231020T140000
DTSTAMP:20260422T173647
CREATED:20230912T184940Z
LAST-MODIFIED:20231018T160630Z
UID:7913-1697796000-1697810400@www.cccmaine.org
SUMMARY:Building Cultural Competency 2023 - Registration
DESCRIPTION:The CCC invites you to Building Cultural Competency\, a free training presented by Elizabeth Neptune of Neptune Advantage on October 20\, 2023\, from 10 am — 2 pm at Cobscook Institute in Trescott.  Designed for Families Future Downeast staff and partners\, this training is open to all CCC partner staff.  Objectives include: \n\nunderstanding the difference between diversity\, cultural awareness\, & cultural competence\, and barriers to working relationships with community members from diverse cultures;\nidentifying where you are on the cultural awareness continuum\, ways to improve working relationships\, and ways to continue a cultural competency journey\n\nMorning refreshments and lunch will be provided.  All participants will receive a certificate for 4 contact hours.  Registration is now closed.  Please notify Christy if you’d like to attend. \n 
URL:https://www.cccmaine.org/event/building-cultural-competency-2023-registration/
LOCATION:Cobscook Institute\, 10 Commissary Point Rd\, Trescott Township\, ME\, 04652\, United States
CATEGORIES:Educational Event,Training
ATTACH;FMTTYPE=image/jpeg:https://www.cccmaine.org/wp-content/uploads/2018/02/Liz-compressed.jpeg
ORGANIZER;CN="Community Caring Collaborative":MAILTO:claurel@cccmaine.org
END:VEVENT
END:VCALENDAR