BEGIN:VCALENDAR
VERSION:2.0
PRODID:-//The Community Caring Collaborative - ECPv6.15.20//NONSGML v1.0//EN
CALSCALE:GREGORIAN
METHOD:PUBLISH
X-ORIGINAL-URL:https://www.cccmaine.org
X-WR-CALDESC:Events for The Community Caring Collaborative
REFRESH-INTERVAL;VALUE=DURATION:PT1H
X-Robots-Tag:noindex
X-PUBLISHED-TTL:PT1H
BEGIN:VTIMEZONE
TZID:America/New_York
BEGIN:DAYLIGHT
TZOFFSETFROM:-0500
TZOFFSETTO:-0400
TZNAME:EDT
DTSTART:20240310T070000
END:DAYLIGHT
BEGIN:STANDARD
TZOFFSETFROM:-0400
TZOFFSETTO:-0500
TZNAME:EST
DTSTART:20241103T060000
END:STANDARD
BEGIN:DAYLIGHT
TZOFFSETFROM:-0500
TZOFFSETTO:-0400
TZNAME:EDT
DTSTART:20250309T070000
END:DAYLIGHT
BEGIN:STANDARD
TZOFFSETFROM:-0400
TZOFFSETTO:-0500
TZNAME:EST
DTSTART:20251102T060000
END:STANDARD
BEGIN:DAYLIGHT
TZOFFSETFROM:-0500
TZOFFSETTO:-0400
TZNAME:EDT
DTSTART:20260308T070000
END:DAYLIGHT
BEGIN:STANDARD
TZOFFSETFROM:-0400
TZOFFSETTO:-0500
TZNAME:EST
DTSTART:20261101T060000
END:STANDARD
END:VTIMEZONE
BEGIN:VEVENT
DTSTART;TZID=America/New_York:20250926T100000
DTEND;TZID=America/New_York:20250926T150000
DTSTAMP:20260421T092905
CREATED:20250814T134600Z
LAST-MODIFIED:20250820T134656Z
UID:9445-1758880800-1758898800@www.cccmaine.org
SUMMARY:Cultural Sensitivity Registration -- 2025
DESCRIPTION:The CCC invites you to participate in a thought-provoking training session presented by Elizabeth Neptune of Neptune Advantage\, focused on Cultural Sensitivity. This session\, designed specifically for Family Futures Downeast partners\, is open to staff at all member organizations of the Community Caring Collaborative.  Training objectives include: \n\nUnderstand the distinctions between diversity\, cultural awareness\, and cultural competence\, as well as the barriers that can affect working relationships with community members from diverse backgrounds.\nReflect on your position within the cultural awareness continuum and explore strategies for enhancing your relationships with diverse community members.\nIdentify actionable steps to continue your journey towards greater cultural competence.\n\nThis training is in person on September 26th from 10 am — 3 pm at Bear Lodge\, situated on the north side of beautiful Long Lake.  Get directions.  Participants are eligible for 5 contact hours and .5 CEUs. \nRegistration\nUnfortunately\, we have reached our seating limit for this training - sorry!  If you'd like to be on a waiting list\, please email claurel@cccmaine.org.  Thank you! \n 
URL:https://www.cccmaine.org/event/cultural-sensitivity-registration-2025/
LOCATION:Bear Lodge\, 314 New Pit Road\, Princeton\, ME\, 04668\, United States
CATEGORIES:Training
ATTACH;FMTTYPE=image/webp:https://www.cccmaine.org/wp-content/uploads/2025/08/lakewater_720x.webp
END:VEVENT
END:VCALENDAR