BEGIN:VCALENDAR
VERSION:2.0
PRODID:-//The Community Caring Collaborative - ECPv6.15.20//NONSGML v1.0//EN
CALSCALE:GREGORIAN
METHOD:PUBLISH
X-WR-CALNAME:The Community Caring Collaborative
X-ORIGINAL-URL:https://www.cccmaine.org
X-WR-CALDESC:Events for The Community Caring Collaborative
REFRESH-INTERVAL;VALUE=DURATION:PT1H
X-Robots-Tag:noindex
X-PUBLISHED-TTL:PT1H
BEGIN:VTIMEZONE
TZID:America/New_York
BEGIN:DAYLIGHT
TZOFFSETFROM:-0500
TZOFFSETTO:-0400
TZNAME:EDT
DTSTART:20180311T070000
END:DAYLIGHT
BEGIN:STANDARD
TZOFFSETFROM:-0400
TZOFFSETTO:-0500
TZNAME:EST
DTSTART:20181104T060000
END:STANDARD
BEGIN:DAYLIGHT
TZOFFSETFROM:-0500
TZOFFSETTO:-0400
TZNAME:EDT
DTSTART:20190310T070000
END:DAYLIGHT
BEGIN:STANDARD
TZOFFSETFROM:-0400
TZOFFSETTO:-0500
TZNAME:EST
DTSTART:20191103T060000
END:STANDARD
BEGIN:DAYLIGHT
TZOFFSETFROM:-0500
TZOFFSETTO:-0400
TZNAME:EDT
DTSTART:20200308T070000
END:DAYLIGHT
BEGIN:STANDARD
TZOFFSETFROM:-0400
TZOFFSETTO:-0500
TZNAME:EST
DTSTART:20201101T060000
END:STANDARD
END:VTIMEZONE
BEGIN:VEVENT
DTSTART;TZID=America/New_York:20190204T100000
DTEND;TZID=America/New_York:20190204T140000
DTSTAMP:20260425T234536
CREATED:20190109T211351Z
LAST-MODIFIED:20190130T142717Z
UID:3443-1549274400-1549288800@www.cccmaine.org
SUMMARY:Financial Coaching & Wellness Training
DESCRIPTION:The CCC is thrilled to host New Ventures Maine in presenting this free workshop for providers who work with families and individuals in a coaching\, navigating\, case management and supportive educational capacity.  Workshop attendees will: \n– Explore attitudes and beliefs about money and different money management styles \n– Learn the elements of Financial Coaching \n– Understand budgeting basics\, Credit & Debit\, and Savings \nRefreshments and  lunch will be provided.  Certificates for  3 contact hours will be available.  Workshop hours are 10 am to 2 pm at the Kay Parker Building\, 26 Hadley Lake Road\, Machias. Please register by January 31\, 2019. (download a flyer here).  To register\, please complete the form below including the Financial Capability Pre-Training Survey. \n\n\n                \n                        Name*\n                            \n                            \n                                                    \n                                                    First\n                                                \n                            \n                            \n                                                    \n                                                    Last\n                                                \n                            \n                        Organization*Your role or job title*Email*\n                            \n                        Phone*Please list any food allergiesPlease take this Financial Capability & Financial Wellness Pre-training Survey.\n\nclick to fill out  survey.CAPTCHA\n          \n            \n            \n            \n            \n            \n            \n            \n            \n            \n            \n            \n            \n            \n        \n                        \n                        \n\n 
URL:https://www.cccmaine.org/event/financial-coaching-wellness-training/
LOCATION:Kay Parker Building\, Hadley Lake Road\, Machias\, ME\, 04654\, United States
CATEGORIES:Training
ATTACH;FMTTYPE=image/jpeg:https://www.cccmaine.org/wp-content/uploads/2019/01/Financial-Coaching.jpg
ORGANIZER;CN="Community Caring Collaborative":MAILTO:claurel@cccmaine.org
END:VEVENT
END:VCALENDAR