BEGIN:VCALENDAR
VERSION:2.0
PRODID:-//The Community Caring Collaborative - ECPv6.15.20//NONSGML v1.0//EN
CALSCALE:GREGORIAN
METHOD:PUBLISH
X-ORIGINAL-URL:https://www.cccmaine.org
X-WR-CALDESC:Events for The Community Caring Collaborative
REFRESH-INTERVAL;VALUE=DURATION:PT1H
X-Robots-Tag:noindex
X-PUBLISHED-TTL:PT1H
BEGIN:VTIMEZONE
TZID:America/New_York
BEGIN:DAYLIGHT
TZOFFSETFROM:-0500
TZOFFSETTO:-0400
TZNAME:EDT
DTSTART:20210314T070000
END:DAYLIGHT
BEGIN:STANDARD
TZOFFSETFROM:-0400
TZOFFSETTO:-0500
TZNAME:EST
DTSTART:20211107T060000
END:STANDARD
BEGIN:DAYLIGHT
TZOFFSETFROM:-0500
TZOFFSETTO:-0400
TZNAME:EDT
DTSTART:20220313T070000
END:DAYLIGHT
BEGIN:STANDARD
TZOFFSETFROM:-0400
TZOFFSETTO:-0500
TZNAME:EST
DTSTART:20221106T060000
END:STANDARD
BEGIN:DAYLIGHT
TZOFFSETFROM:-0500
TZOFFSETTO:-0400
TZNAME:EDT
DTSTART:20230312T070000
END:DAYLIGHT
BEGIN:STANDARD
TZOFFSETFROM:-0400
TZOFFSETTO:-0500
TZNAME:EST
DTSTART:20231105T060000
END:STANDARD
END:VTIMEZONE
BEGIN:VEVENT
DTSTART;TZID=America/New_York:20220722T090000
DTEND;TZID=America/New_York:20220722T110000
DTSTAMP:20260423T172743
CREATED:20220309T171138Z
LAST-MODIFIED:20220608T162000Z
UID:6516-1658480400-1658487600@www.cccmaine.org
SUMMARY:Rescheduled Poverty and its Impacts Part 2
DESCRIPTION:This is the rescheduled Impacts of Poverty on Students & Families training: July 20th & 22nd\, 9 — 11 am.  Julie Redding\, CCC’s clinical director\, and Charley Martin-Berry\, CCC’s director\, will present an overview\, including the effects of cortisol and toxic stress on brain development; explore concepts of bias\, scarcity and bandwidth; look at current poverty data; and discuss strategies that work\, such as building executive function.  Here’s the link to join Part 2 (Meeting ID: 872 7964 7022\, Passcode: 753555).  Participants who attend both sessions are eligible for .4 CEUs from UMM as well as a certificate of 4 contact hours from the CCC. \n  \n 
URL:https://www.cccmaine.org/event/poverty-and-its-impacts-part-2/
LOCATION:Zoom
CATEGORIES:Educational Event,Training
ATTACH;FMTTYPE=image/jpeg:https://www.cccmaine.org/wp-content/uploads/2022/03/Scarcity.jpg
ORGANIZER;CN="Community Caring Collaborative":MAILTO:claurel@cccmaine.org
END:VEVENT
END:VCALENDAR